BEGIN:VCALENDAR
VERSION:2.0
PRODID:-//The Church of the Holy Spirit - ECPv6.15.17.1//NONSGML v1.0//EN
CALSCALE:GREGORIAN
METHOD:PUBLISH
X-ORIGINAL-URL:https://holyspiritorleans.org
X-WR-CALDESC:Events for The Church of the Holy Spirit
REFRESH-INTERVAL;VALUE=DURATION:PT1H
X-Robots-Tag:noindex
X-PUBLISHED-TTL:PT1H
BEGIN:VTIMEZONE
TZID:America/New_York
BEGIN:DAYLIGHT
TZOFFSETFROM:-0500
TZOFFSETTO:-0400
TZNAME:EDT
DTSTART:20230312T070000
END:DAYLIGHT
BEGIN:STANDARD
TZOFFSETFROM:-0400
TZOFFSETTO:-0500
TZNAME:EST
DTSTART:20231105T060000
END:STANDARD
BEGIN:DAYLIGHT
TZOFFSETFROM:-0500
TZOFFSETTO:-0400
TZNAME:EDT
DTSTART:20240310T070000
END:DAYLIGHT
BEGIN:STANDARD
TZOFFSETFROM:-0400
TZOFFSETTO:-0500
TZNAME:EST
DTSTART:20241103T060000
END:STANDARD
BEGIN:DAYLIGHT
TZOFFSETFROM:-0500
TZOFFSETTO:-0400
TZNAME:EDT
DTSTART:20250309T070000
END:DAYLIGHT
BEGIN:STANDARD
TZOFFSETFROM:-0400
TZOFFSETTO:-0500
TZNAME:EST
DTSTART:20251102T060000
END:STANDARD
BEGIN:DAYLIGHT
TZOFFSETFROM:-0500
TZOFFSETTO:-0400
TZNAME:EDT
DTSTART:20260308T070000
END:DAYLIGHT
BEGIN:STANDARD
TZOFFSETFROM:-0400
TZOFFSETTO:-0500
TZNAME:EST
DTSTART:20261101T060000
END:STANDARD
END:VTIMEZONE
BEGIN:VEVENT
DTSTART;TZID=America/New_York:20250317T100000
DTEND;TZID=America/New_York:20250317T140000
DTSTAMP:20260425T063856
CREATED:20241205T154243Z
LAST-MODIFIED:20250908T181456Z
UID:10030255-1742205600-1742220000@holyspiritorleans.org
SUMMARY:Kimball Guild (KH)
DESCRIPTION:The Kimball Guild will meet in the Kimball House starting at 10:00 a.m. today.
URL:https://holyspiritorleans.org/event/kimball-guild-kh-2/2025-03-17/
LOCATION:Kimball House\, 204 Monument Road\, Orleans\, MA\, 02653\, United States
END:VEVENT
BEGIN:VEVENT
DTSTART;TZID=America/New_York:20250310T100000
DTEND;TZID=America/New_York:20250310T140000
DTSTAMP:20260425T063856
CREATED:20241205T154243Z
LAST-MODIFIED:20250908T181456Z
UID:10030254-1741600800-1741615200@holyspiritorleans.org
SUMMARY:Kimball Guild (KH)
DESCRIPTION:The Kimball Guild will meet in the Kimball House starting at 10:00 a.m. today.
URL:https://holyspiritorleans.org/event/kimball-guild-kh-2/2025-03-10/
LOCATION:Kimball House\, 204 Monument Road\, Orleans\, MA\, 02653\, United States
END:VEVENT
BEGIN:VEVENT
DTSTART;TZID=America/New_York:20250303T100000
DTEND;TZID=America/New_York:20250303T140000
DTSTAMP:20260425T063856
CREATED:20241205T154243Z
LAST-MODIFIED:20250908T181456Z
UID:10030253-1740996000-1741010400@holyspiritorleans.org
SUMMARY:Kimball Guild (KH)
DESCRIPTION:The Kimball Guild will meet in the Kimball House starting at 10:00 a.m. today.
URL:https://holyspiritorleans.org/event/kimball-guild-kh-2/2025-03-03/
LOCATION:Kimball House\, 204 Monument Road\, Orleans\, MA\, 02653\, United States
END:VEVENT
BEGIN:VEVENT
DTSTART;TZID=America/New_York:20250224T100000
DTEND;TZID=America/New_York:20250224T140000
DTSTAMP:20260425T063856
CREATED:20241205T154243Z
LAST-MODIFIED:20250908T181456Z
UID:10030252-1740391200-1740405600@holyspiritorleans.org
SUMMARY:Kimball Guild (KH)
DESCRIPTION:The Kimball Guild will meet in the Kimball House starting at 10:00 a.m. today.
URL:https://holyspiritorleans.org/event/kimball-guild-kh-2/2025-02-24/
LOCATION:Kimball House\, 204 Monument Road\, Orleans\, MA\, 02653\, United States
END:VEVENT
BEGIN:VEVENT
DTSTART;TZID=America/New_York:20250210T100000
DTEND;TZID=America/New_York:20250210T140000
DTSTAMP:20260425T063856
CREATED:20241205T154243Z
LAST-MODIFIED:20250908T181456Z
UID:10030250-1739181600-1739196000@holyspiritorleans.org
SUMMARY:Kimball Guild (KH)
DESCRIPTION:The Kimball Guild will meet in the Kimball House starting at 10:00 a.m. today.
URL:https://holyspiritorleans.org/event/kimball-guild-kh-2/2025-02-10/
LOCATION:Kimball House\, 204 Monument Road\, Orleans\, MA\, 02653\, United States
END:VEVENT
BEGIN:VEVENT
DTSTART;TZID=America/New_York:20250203T100000
DTEND;TZID=America/New_York:20250203T140000
DTSTAMP:20260425T063856
CREATED:20241205T154243Z
LAST-MODIFIED:20250908T181456Z
UID:10030249-1738576800-1738591200@holyspiritorleans.org
SUMMARY:Kimball Guild (KH)
DESCRIPTION:The Kimball Guild will meet in the Kimball House starting at 10:00 a.m. today.
URL:https://holyspiritorleans.org/event/kimball-guild-kh-2/2025-02-03/
LOCATION:Kimball House\, 204 Monument Road\, Orleans\, MA\, 02653\, United States
END:VEVENT
BEGIN:VEVENT
DTSTART;TZID=America/New_York:20250127T100000
DTEND;TZID=America/New_York:20250127T140000
DTSTAMP:20260425T063856
CREATED:20241205T154243Z
LAST-MODIFIED:20250908T181456Z
UID:10030248-1737972000-1737986400@holyspiritorleans.org
SUMMARY:Kimball Guild (KH)
DESCRIPTION:The Kimball Guild will meet in the Kimball House starting at 10:00 a.m. today.
URL:https://holyspiritorleans.org/event/kimball-guild-kh-2/2025-01-27/
LOCATION:Kimball House\, 204 Monument Road\, Orleans\, MA\, 02653\, United States
END:VEVENT
BEGIN:VEVENT
DTSTART;TZID=America/New_York:20250113T100000
DTEND;TZID=America/New_York:20250113T140000
DTSTAMP:20260425T063856
CREATED:20241205T154243Z
LAST-MODIFIED:20250908T181456Z
UID:10030246-1736762400-1736776800@holyspiritorleans.org
SUMMARY:Kimball Guild (KH)
DESCRIPTION:The Kimball Guild will meet in the Kimball House starting at 10:00 a.m. today.
URL:https://holyspiritorleans.org/event/kimball-guild-kh-2/2025-01-13/
LOCATION:Kimball House\, 204 Monument Road\, Orleans\, MA\, 02653\, United States
END:VEVENT
BEGIN:VEVENT
DTSTART;TZID=America/New_York:20250106T100000
DTEND;TZID=America/New_York:20250106T140000
DTSTAMP:20260425T063856
CREATED:20241205T154243Z
LAST-MODIFIED:20250908T181456Z
UID:10030245-1736157600-1736172000@holyspiritorleans.org
SUMMARY:Kimball Guild (KH)
DESCRIPTION:The Kimball Guild will meet in the Kimball House starting at 10:00 a.m. today.
URL:https://holyspiritorleans.org/event/kimball-guild-kh-2/2025-01-06/
LOCATION:Kimball House\, 204 Monument Road\, Orleans\, MA\, 02653\, United States
END:VEVENT
BEGIN:VEVENT
DTSTART;TZID=America/New_York:20241230T100000
DTEND;TZID=America/New_York:20241230T140000
DTSTAMP:20260425T063856
CREATED:20231106T163055Z
LAST-MODIFIED:20240930T152418Z
UID:10028369-1735552800-1735567200@holyspiritorleans.org
SUMMARY:Kimball Guild (KH)
DESCRIPTION:The Kimball Guild will meet in the Kimball House starting at 10:00 a.m. today.
URL:https://holyspiritorleans.org/event/kimball-guild-kh/2024-12-30/
LOCATION:Kimball House\, 204 Monument Road\, Orleans\, MA\, 02653\, United States
END:VEVENT
BEGIN:VEVENT
DTSTART;TZID=America/New_York:20241223T100000
DTEND;TZID=America/New_York:20241223T140000
DTSTAMP:20260425T063856
CREATED:20231106T163055Z
LAST-MODIFIED:20240930T152418Z
UID:10028368-1734948000-1734962400@holyspiritorleans.org
SUMMARY:Kimball Guild (KH)
DESCRIPTION:The Kimball Guild will meet in the Kimball House starting at 10:00 a.m. today.
URL:https://holyspiritorleans.org/event/kimball-guild-kh/2024-12-23/
LOCATION:Kimball House\, 204 Monument Road\, Orleans\, MA\, 02653\, United States
END:VEVENT
BEGIN:VEVENT
DTSTART;TZID=America/New_York:20241216T100000
DTEND;TZID=America/New_York:20241216T140000
DTSTAMP:20260425T063856
CREATED:20231106T163055Z
LAST-MODIFIED:20240930T152418Z
UID:10028367-1734343200-1734357600@holyspiritorleans.org
SUMMARY:Kimball Guild (KH)
DESCRIPTION:The Kimball Guild will meet in the Kimball House starting at 10:00 a.m. today.
URL:https://holyspiritorleans.org/event/kimball-guild-kh/2024-12-16/
LOCATION:Kimball House\, 204 Monument Road\, Orleans\, MA\, 02653\, United States
END:VEVENT
BEGIN:VEVENT
DTSTART;TZID=America/New_York:20241209T100000
DTEND;TZID=America/New_York:20241209T140000
DTSTAMP:20260425T063856
CREATED:20231106T163055Z
LAST-MODIFIED:20240930T152418Z
UID:10028366-1733738400-1733752800@holyspiritorleans.org
SUMMARY:Kimball Guild (KH)
DESCRIPTION:The Kimball Guild will meet in the Kimball House starting at 10:00 a.m. today.
URL:https://holyspiritorleans.org/event/kimball-guild-kh/2024-12-09/
LOCATION:Kimball House\, 204 Monument Road\, Orleans\, MA\, 02653\, United States
END:VEVENT
BEGIN:VEVENT
DTSTART;TZID=America/New_York:20241202T100000
DTEND;TZID=America/New_York:20241202T140000
DTSTAMP:20260425T063856
CREATED:20231106T163055Z
LAST-MODIFIED:20240930T152418Z
UID:10028365-1733133600-1733148000@holyspiritorleans.org
SUMMARY:Kimball Guild (KH)
DESCRIPTION:The Kimball Guild will meet in the Kimball House starting at 10:00 a.m. today.
URL:https://holyspiritorleans.org/event/kimball-guild-kh/2024-12-02/
LOCATION:Kimball House\, 204 Monument Road\, Orleans\, MA\, 02653\, United States
END:VEVENT
BEGIN:VEVENT
DTSTART;TZID=America/New_York:20241125T100000
DTEND;TZID=America/New_York:20241125T140000
DTSTAMP:20260425T063856
CREATED:20231106T163055Z
LAST-MODIFIED:20240930T152418Z
UID:10028364-1732528800-1732543200@holyspiritorleans.org
SUMMARY:Kimball Guild (KH)
DESCRIPTION:The Kimball Guild will meet in the Kimball House starting at 10:00 a.m. today.
URL:https://holyspiritorleans.org/event/kimball-guild-kh/2024-11-25/
LOCATION:Kimball House\, 204 Monument Road\, Orleans\, MA\, 02653\, United States
END:VEVENT
BEGIN:VEVENT
DTSTART;TZID=America/New_York:20241118T100000
DTEND;TZID=America/New_York:20241118T140000
DTSTAMP:20260425T063856
CREATED:20231106T163055Z
LAST-MODIFIED:20240930T152418Z
UID:10028363-1731924000-1731938400@holyspiritorleans.org
SUMMARY:Kimball Guild (KH)
DESCRIPTION:The Kimball Guild will meet in the Kimball House starting at 10:00 a.m. today.
URL:https://holyspiritorleans.org/event/kimball-guild-kh/2024-11-18/
LOCATION:Kimball House\, 204 Monument Road\, Orleans\, MA\, 02653\, United States
END:VEVENT
BEGIN:VEVENT
DTSTART;TZID=America/New_York:20241104T100000
DTEND;TZID=America/New_York:20241104T140000
DTSTAMP:20260425T063856
CREATED:20231106T163055Z
LAST-MODIFIED:20240930T152418Z
UID:10028361-1730714400-1730728800@holyspiritorleans.org
SUMMARY:Kimball Guild (KH)
DESCRIPTION:The Kimball Guild will meet in the Kimball House starting at 10:00 a.m. today.
URL:https://holyspiritorleans.org/event/kimball-guild-kh/2024-11-04/
LOCATION:Kimball House\, 204 Monument Road\, Orleans\, MA\, 02653\, United States
END:VEVENT
BEGIN:VEVENT
DTSTART;TZID=America/New_York:20241028T100000
DTEND;TZID=America/New_York:20241028T140000
DTSTAMP:20260425T063856
CREATED:20231106T163055Z
LAST-MODIFIED:20240930T152418Z
UID:10028360-1730109600-1730124000@holyspiritorleans.org
SUMMARY:Kimball Guild (KH)
DESCRIPTION:The Kimball Guild will meet in the Kimball House starting at 10:00 a.m. today.
URL:https://holyspiritorleans.org/event/kimball-guild-kh/2024-10-28/
LOCATION:Kimball House\, 204 Monument Road\, Orleans\, MA\, 02653\, United States
END:VEVENT
BEGIN:VEVENT
DTSTART;TZID=America/New_York:20241021T100000
DTEND;TZID=America/New_York:20241021T140000
DTSTAMP:20260425T063856
CREATED:20231106T163055Z
LAST-MODIFIED:20240930T152418Z
UID:10028359-1729504800-1729519200@holyspiritorleans.org
SUMMARY:Kimball Guild (KH)
DESCRIPTION:The Kimball Guild will meet in the Kimball House starting at 10:00 a.m. today.
URL:https://holyspiritorleans.org/event/kimball-guild-kh/2024-10-21/
LOCATION:Kimball House\, 204 Monument Road\, Orleans\, MA\, 02653\, United States
END:VEVENT
BEGIN:VEVENT
DTSTART;TZID=America/New_York:20241007T100000
DTEND;TZID=America/New_York:20241007T140000
DTSTAMP:20260425T063856
CREATED:20231106T163055Z
LAST-MODIFIED:20240930T152418Z
UID:10028357-1728295200-1728309600@holyspiritorleans.org
SUMMARY:Kimball Guild (KH)
DESCRIPTION:The Kimball Guild will meet in the Kimball House starting at 10:00 a.m. today.
URL:https://holyspiritorleans.org/event/kimball-guild-kh/2024-10-07/
LOCATION:Kimball House\, 204 Monument Road\, Orleans\, MA\, 02653\, United States
END:VEVENT
BEGIN:VEVENT
DTSTART;TZID=America/New_York:20240930T100000
DTEND;TZID=America/New_York:20240930T140000
DTSTAMP:20260425T063856
CREATED:20231106T163055Z
LAST-MODIFIED:20240930T152418Z
UID:10028356-1727690400-1727704800@holyspiritorleans.org
SUMMARY:Kimball Guild (KH)
DESCRIPTION:The Kimball Guild will meet in the Kimball House starting at 10:00 a.m. today.
URL:https://holyspiritorleans.org/event/kimball-guild-kh/2024-09-30/
LOCATION:Kimball House\, 204 Monument Road\, Orleans\, MA\, 02653\, United States
END:VEVENT
BEGIN:VEVENT
DTSTART;TZID=America/New_York:20240923T100000
DTEND;TZID=America/New_York:20240923T140000
DTSTAMP:20260425T063856
CREATED:20231106T163055Z
LAST-MODIFIED:20240930T152418Z
UID:10028355-1727085600-1727100000@holyspiritorleans.org
SUMMARY:Kimball Guild (KH)
DESCRIPTION:The Kimball Guild will meet in the Kimball House starting at 10:00 a.m. today.
URL:https://holyspiritorleans.org/event/kimball-guild-kh/2024-09-23/
LOCATION:Kimball House\, 204 Monument Road\, Orleans\, MA\, 02653\, United States
END:VEVENT
BEGIN:VEVENT
DTSTART;TZID=America/New_York:20240916T100000
DTEND;TZID=America/New_York:20240916T140000
DTSTAMP:20260425T063856
CREATED:20231106T163055Z
LAST-MODIFIED:20240930T152418Z
UID:10028354-1726480800-1726495200@holyspiritorleans.org
SUMMARY:Kimball Guild (KH)
DESCRIPTION:The Kimball Guild will meet in the Kimball House starting at 10:00 a.m. today.
URL:https://holyspiritorleans.org/event/kimball-guild-kh/2024-09-16/
LOCATION:Kimball House\, 204 Monument Road\, Orleans\, MA\, 02653\, United States
END:VEVENT
BEGIN:VEVENT
DTSTART;TZID=America/New_York:20240909T100000
DTEND;TZID=America/New_York:20240909T140000
DTSTAMP:20260425T063856
CREATED:20231106T163055Z
LAST-MODIFIED:20240930T152418Z
UID:10028353-1725876000-1725890400@holyspiritorleans.org
SUMMARY:Kimball Guild (KH)
DESCRIPTION:The Kimball Guild will meet in the Kimball House starting at 10:00 a.m. today.
URL:https://holyspiritorleans.org/event/kimball-guild-kh/2024-09-09/
LOCATION:Kimball House\, 204 Monument Road\, Orleans\, MA\, 02653\, United States
END:VEVENT
BEGIN:VEVENT
DTSTART;TZID=America/New_York:20240826T100000
DTEND;TZID=America/New_York:20240826T140000
DTSTAMP:20260425T063856
CREATED:20231106T163055Z
LAST-MODIFIED:20240930T152418Z
UID:10028351-1724666400-1724680800@holyspiritorleans.org
SUMMARY:Kimball Guild (KH)
DESCRIPTION:The Kimball Guild will meet in the Kimball House starting at 10:00 a.m. today.
URL:https://holyspiritorleans.org/event/kimball-guild-kh/2024-08-26/
LOCATION:Kimball House\, 204 Monument Road\, Orleans\, MA\, 02653\, United States
END:VEVENT
BEGIN:VEVENT
DTSTART;TZID=America/New_York:20240819T100000
DTEND;TZID=America/New_York:20240819T140000
DTSTAMP:20260425T063856
CREATED:20231106T163055Z
LAST-MODIFIED:20240930T152418Z
UID:10028350-1724061600-1724076000@holyspiritorleans.org
SUMMARY:Kimball Guild (KH)
DESCRIPTION:The Kimball Guild will meet in the Kimball House starting at 10:00 a.m. today.
URL:https://holyspiritorleans.org/event/kimball-guild-kh/2024-08-19/
LOCATION:Kimball House\, 204 Monument Road\, Orleans\, MA\, 02653\, United States
END:VEVENT
BEGIN:VEVENT
DTSTART;TZID=America/New_York:20240812T100000
DTEND;TZID=America/New_York:20240812T140000
DTSTAMP:20260425T063856
CREATED:20231106T163055Z
LAST-MODIFIED:20240930T152418Z
UID:10028349-1723456800-1723471200@holyspiritorleans.org
SUMMARY:Kimball Guild (KH)
DESCRIPTION:The Kimball Guild will meet in the Kimball House starting at 10:00 a.m. today.
URL:https://holyspiritorleans.org/event/kimball-guild-kh/2024-08-12/
LOCATION:Kimball House\, 204 Monument Road\, Orleans\, MA\, 02653\, United States
END:VEVENT
BEGIN:VEVENT
DTSTART;TZID=America/New_York:20240805T100000
DTEND;TZID=America/New_York:20240805T140000
DTSTAMP:20260425T063856
CREATED:20231106T163055Z
LAST-MODIFIED:20240930T152418Z
UID:10028348-1722852000-1722866400@holyspiritorleans.org
SUMMARY:Kimball Guild (KH)
DESCRIPTION:The Kimball Guild will meet in the Kimball House starting at 10:00 a.m. today.
URL:https://holyspiritorleans.org/event/kimball-guild-kh/2024-08-05/
LOCATION:Kimball House\, 204 Monument Road\, Orleans\, MA\, 02653\, United States
END:VEVENT
BEGIN:VEVENT
DTSTART;TZID=America/New_York:20240729T100000
DTEND;TZID=America/New_York:20240729T140000
DTSTAMP:20260425T063856
CREATED:20231106T163055Z
LAST-MODIFIED:20240930T152418Z
UID:10028347-1722247200-1722261600@holyspiritorleans.org
SUMMARY:Kimball Guild (KH)
DESCRIPTION:The Kimball Guild will meet in the Kimball House starting at 10:00 a.m. today.
URL:https://holyspiritorleans.org/event/kimball-guild-kh/2024-07-29/
LOCATION:Kimball House\, 204 Monument Road\, Orleans\, MA\, 02653\, United States
END:VEVENT
BEGIN:VEVENT
DTSTART;TZID=America/New_York:20240722T100000
DTEND;TZID=America/New_York:20240722T140000
DTSTAMP:20260425T063856
CREATED:20231106T163055Z
LAST-MODIFIED:20240930T152418Z
UID:10028346-1721642400-1721656800@holyspiritorleans.org
SUMMARY:Kimball Guild (KH)
DESCRIPTION:The Kimball Guild will meet in the Kimball House starting at 10:00 a.m. today.
URL:https://holyspiritorleans.org/event/kimball-guild-kh/2024-07-22/
LOCATION:Kimball House\, 204 Monument Road\, Orleans\, MA\, 02653\, United States
END:VEVENT
END:VCALENDAR