BEGIN:VCALENDAR
VERSION:2.0
PRODID:-//The Church of the Holy Spirit - ECPv6.15.17.1//NONSGML v1.0//EN
CALSCALE:GREGORIAN
METHOD:PUBLISH
X-ORIGINAL-URL:https://holyspiritorleans.org
X-WR-CALDESC:Events for The Church of the Holy Spirit
REFRESH-INTERVAL;VALUE=DURATION:PT1H
X-Robots-Tag:noindex
X-PUBLISHED-TTL:PT1H
BEGIN:VTIMEZONE
TZID:America/New_York
BEGIN:DAYLIGHT
TZOFFSETFROM:-0500
TZOFFSETTO:-0400
TZNAME:EDT
DTSTART:20250309T070000
END:DAYLIGHT
BEGIN:STANDARD
TZOFFSETFROM:-0400
TZOFFSETTO:-0500
TZNAME:EST
DTSTART:20251102T060000
END:STANDARD
BEGIN:DAYLIGHT
TZOFFSETFROM:-0500
TZOFFSETTO:-0400
TZNAME:EDT
DTSTART:20260308T070000
END:DAYLIGHT
BEGIN:STANDARD
TZOFFSETFROM:-0400
TZOFFSETTO:-0500
TZNAME:EST
DTSTART:20261101T060000
END:STANDARD
BEGIN:DAYLIGHT
TZOFFSETFROM:-0500
TZOFFSETTO:-0400
TZNAME:EDT
DTSTART:20270314T070000
END:DAYLIGHT
BEGIN:STANDARD
TZOFFSETFROM:-0400
TZOFFSETTO:-0500
TZNAME:EST
DTSTART:20271107T060000
END:STANDARD
END:VTIMEZONE
BEGIN:VEVENT
DTSTART;TZID=America/New_York:20260806T160000
DTEND;TZID=America/New_York:20260806T170000
DTSTAMP:20260420T045227
CREATED:20251202T192513Z
LAST-MODIFIED:20260330T145230Z
UID:10031878-1786032000-1786035600@holyspiritorleans.org
SUMMARY:Centering Prayer (RR/MG)
DESCRIPTION:Centering Prayer will take place in either the Memorial Garden or Reception Room starting at 4:00 pm today.
URL:https://holyspiritorleans.org/event/centering-prayer-rr-mg/2026-08-06/
LOCATION:Memorial Garden\, MA\, United States
END:VEVENT
BEGIN:VEVENT
DTSTART;TZID=America/New_York:20260813T160000
DTEND;TZID=America/New_York:20260813T170000
DTSTAMP:20260420T045227
CREATED:20251202T192513Z
LAST-MODIFIED:20260330T145230Z
UID:10031879-1786636800-1786640400@holyspiritorleans.org
SUMMARY:Centering Prayer (RR/MG)
DESCRIPTION:Centering Prayer will take place in either the Memorial Garden or Reception Room starting at 4:00 pm today.
URL:https://holyspiritorleans.org/event/centering-prayer-rr-mg/2026-08-13/
LOCATION:Memorial Garden\, MA\, United States
END:VEVENT
BEGIN:VEVENT
DTSTART;TZID=America/New_York:20260820T160000
DTEND;TZID=America/New_York:20260820T170000
DTSTAMP:20260420T045227
CREATED:20251202T192513Z
LAST-MODIFIED:20260330T145230Z
UID:10031880-1787241600-1787245200@holyspiritorleans.org
SUMMARY:Centering Prayer (RR/MG)
DESCRIPTION:Centering Prayer will take place in either the Memorial Garden or Reception Room starting at 4:00 pm today.
URL:https://holyspiritorleans.org/event/centering-prayer-rr-mg/2026-08-20/
LOCATION:Memorial Garden\, MA\, United States
END:VEVENT
BEGIN:VEVENT
DTSTART;TZID=America/New_York:20260827T160000
DTEND;TZID=America/New_York:20260827T170000
DTSTAMP:20260420T045227
CREATED:20251202T192513Z
LAST-MODIFIED:20260330T145230Z
UID:10031881-1787846400-1787850000@holyspiritorleans.org
SUMMARY:Centering Prayer (RR/MG)
DESCRIPTION:Centering Prayer will take place in either the Memorial Garden or Reception Room starting at 4:00 pm today.
URL:https://holyspiritorleans.org/event/centering-prayer-rr-mg/2026-08-27/
LOCATION:Memorial Garden\, MA\, United States
END:VEVENT
BEGIN:VEVENT
DTSTART;TZID=America/New_York:20260903T133000
DTEND;TZID=America/New_York:20260903T150000
DTSTAMP:20260420T045227
CREATED:20260302T163924Z
LAST-MODIFIED:20260302T163924Z
UID:10032207-1788442200-1788447600@holyspiritorleans.org
SUMMARY:Outreach Committee (FR)
DESCRIPTION:The Outreach Committee will meet in the Fireplace Room starting at 1:30 p.m. today.
URL:https://holyspiritorleans.org/event/outreach-committee-fr-6/2026-09-03/
LOCATION:Fireplace Room\, 204 Monument Road\, Orleans\, MA\, 02653\, United States
GEO:41.7656197;-69.9845821
X-APPLE-STRUCTURED-LOCATION;VALUE=URI;X-ADDRESS=Fireplace Room 204 Monument Road Orleans MA 02653 United States;X-APPLE-RADIUS=500;X-TITLE=204 Monument Road:geo:-69.9845821,41.7656197
END:VEVENT
BEGIN:VEVENT
DTSTART;TZID=America/New_York:20260903T160000
DTEND;TZID=America/New_York:20260903T170000
DTSTAMP:20260420T045227
CREATED:20251202T192513Z
LAST-MODIFIED:20260330T145230Z
UID:10031882-1788451200-1788454800@holyspiritorleans.org
SUMMARY:Centering Prayer (RR/MG)
DESCRIPTION:Centering Prayer will take place in either the Memorial Garden or Reception Room starting at 4:00 pm today.
URL:https://holyspiritorleans.org/event/centering-prayer-rr-mg/2026-09-03/
LOCATION:Memorial Garden\, MA\, United States
END:VEVENT
BEGIN:VEVENT
DTSTART;TZID=America/New_York:20260906T111500
DTEND;TZID=America/New_York:20260906T124500
DTSTAMP:20260420T045227
CREATED:20251215T192004Z
LAST-MODIFIED:20251222T153230Z
UID:10031946-1788693300-1788698700@holyspiritorleans.org
SUMMARY:Book Discussion Group (FR)
DESCRIPTION:The Book Discussion Group will meet in the Fireplace Room starting at 11:15 am today.
URL:https://holyspiritorleans.org/event/book-discussion-group-fr-3/2026-09-06/
LOCATION:Fireplace Room\, 204 Monument Road\, Orleans\, MA\, 02653\, United States
GEO:41.7656197;-69.9845821
X-APPLE-STRUCTURED-LOCATION;VALUE=URI;X-ADDRESS=Fireplace Room 204 Monument Road Orleans MA 02653 United States;X-APPLE-RADIUS=500;X-TITLE=204 Monument Road:geo:-69.9845821,41.7656197
END:VEVENT
BEGIN:VEVENT
DTSTART;TZID=America/New_York:20260910T160000
DTEND;TZID=America/New_York:20260910T170000
DTSTAMP:20260420T045227
CREATED:20251202T192513Z
LAST-MODIFIED:20260330T145230Z
UID:10031883-1789056000-1789059600@holyspiritorleans.org
SUMMARY:Centering Prayer (RR/MG)
DESCRIPTION:Centering Prayer will take place in either the Memorial Garden or Reception Room starting at 4:00 pm today.
URL:https://holyspiritorleans.org/event/centering-prayer-rr-mg/2026-09-10/
LOCATION:Memorial Garden\, MA\, United States
END:VEVENT
BEGIN:VEVENT
DTSTART;TZID=America/New_York:20260913T111500
DTEND;TZID=America/New_York:20260913T124500
DTSTAMP:20260420T045227
CREATED:20251215T192004Z
LAST-MODIFIED:20251222T153230Z
UID:10031947-1789298100-1789303500@holyspiritorleans.org
SUMMARY:Book Discussion Group (FR)
DESCRIPTION:The Book Discussion Group will meet in the Fireplace Room starting at 11:15 am today.
URL:https://holyspiritorleans.org/event/book-discussion-group-fr-3/2026-09-13/
LOCATION:Fireplace Room\, 204 Monument Road\, Orleans\, MA\, 02653\, United States
GEO:41.7656197;-69.9845821
X-APPLE-STRUCTURED-LOCATION;VALUE=URI;X-ADDRESS=Fireplace Room 204 Monument Road Orleans MA 02653 United States;X-APPLE-RADIUS=500;X-TITLE=204 Monument Road:geo:-69.9845821,41.7656197
END:VEVENT
BEGIN:VEVENT
DTSTART;TZID=America/New_York:20260917T160000
DTEND;TZID=America/New_York:20260917T170000
DTSTAMP:20260420T045227
CREATED:20251202T192513Z
LAST-MODIFIED:20260330T145230Z
UID:10031884-1789660800-1789664400@holyspiritorleans.org
SUMMARY:Centering Prayer (RR/MG)
DESCRIPTION:Centering Prayer will take place in either the Memorial Garden or Reception Room starting at 4:00 pm today.
URL:https://holyspiritorleans.org/event/centering-prayer-rr-mg/2026-09-17/
LOCATION:Memorial Garden\, MA\, United States
END:VEVENT
BEGIN:VEVENT
DTSTART;TZID=America/New_York:20260920T111500
DTEND;TZID=America/New_York:20260920T124500
DTSTAMP:20260420T045227
CREATED:20251215T192004Z
LAST-MODIFIED:20251222T153230Z
UID:10031948-1789902900-1789908300@holyspiritorleans.org
SUMMARY:Book Discussion Group (FR)
DESCRIPTION:The Book Discussion Group will meet in the Fireplace Room starting at 11:15 am today.
URL:https://holyspiritorleans.org/event/book-discussion-group-fr-3/2026-09-20/
LOCATION:Fireplace Room\, 204 Monument Road\, Orleans\, MA\, 02653\, United States
GEO:41.7656197;-69.9845821
X-APPLE-STRUCTURED-LOCATION;VALUE=URI;X-ADDRESS=Fireplace Room 204 Monument Road Orleans MA 02653 United States;X-APPLE-RADIUS=500;X-TITLE=204 Monument Road:geo:-69.9845821,41.7656197
END:VEVENT
BEGIN:VEVENT
DTSTART;TZID=America/New_York:20260924T160000
DTEND;TZID=America/New_York:20260924T170000
DTSTAMP:20260420T045227
CREATED:20251202T192513Z
LAST-MODIFIED:20260330T145230Z
UID:10031885-1790265600-1790269200@holyspiritorleans.org
SUMMARY:Centering Prayer (RR/MG)
DESCRIPTION:Centering Prayer will take place in either the Memorial Garden or Reception Room starting at 4:00 pm today.
URL:https://holyspiritorleans.org/event/centering-prayer-rr-mg/2026-09-24/
LOCATION:Memorial Garden\, MA\, United States
END:VEVENT
BEGIN:VEVENT
DTSTART;TZID=America/New_York:20260927T111500
DTEND;TZID=America/New_York:20260927T124500
DTSTAMP:20260420T045227
CREATED:20251215T192004Z
LAST-MODIFIED:20251222T153230Z
UID:10031949-1790507700-1790513100@holyspiritorleans.org
SUMMARY:Book Discussion Group (FR)
DESCRIPTION:The Book Discussion Group will meet in the Fireplace Room starting at 11:15 am today.
URL:https://holyspiritorleans.org/event/book-discussion-group-fr-3/2026-09-27/
LOCATION:Fireplace Room\, 204 Monument Road\, Orleans\, MA\, 02653\, United States
GEO:41.7656197;-69.9845821
X-APPLE-STRUCTURED-LOCATION;VALUE=URI;X-ADDRESS=Fireplace Room 204 Monument Road Orleans MA 02653 United States;X-APPLE-RADIUS=500;X-TITLE=204 Monument Road:geo:-69.9845821,41.7656197
END:VEVENT
BEGIN:VEVENT
DTSTART;TZID=America/New_York:20261001T133000
DTEND;TZID=America/New_York:20261001T150000
DTSTAMP:20260420T045227
CREATED:20260302T163924Z
LAST-MODIFIED:20260302T163924Z
UID:10032208-1790861400-1790866800@holyspiritorleans.org
SUMMARY:Outreach Committee (FR)
DESCRIPTION:The Outreach Committee will meet in the Fireplace Room starting at 1:30 p.m. today.
URL:https://holyspiritorleans.org/event/outreach-committee-fr-6/2026-10-01/
LOCATION:Fireplace Room\, 204 Monument Road\, Orleans\, MA\, 02653\, United States
GEO:41.7656197;-69.9845821
X-APPLE-STRUCTURED-LOCATION;VALUE=URI;X-ADDRESS=Fireplace Room 204 Monument Road Orleans MA 02653 United States;X-APPLE-RADIUS=500;X-TITLE=204 Monument Road:geo:-69.9845821,41.7656197
END:VEVENT
BEGIN:VEVENT
DTSTART;TZID=America/New_York:20261001T160000
DTEND;TZID=America/New_York:20261001T170000
DTSTAMP:20260420T045227
CREATED:20251202T192513Z
LAST-MODIFIED:20260330T145230Z
UID:10031886-1790870400-1790874000@holyspiritorleans.org
SUMMARY:Centering Prayer (RR/MG)
DESCRIPTION:Centering Prayer will take place in either the Memorial Garden or Reception Room starting at 4:00 pm today.
URL:https://holyspiritorleans.org/event/centering-prayer-rr-mg/2026-10-01/
LOCATION:Memorial Garden\, MA\, United States
END:VEVENT
BEGIN:VEVENT
DTSTART;TZID=America/New_York:20261004T111500
DTEND;TZID=America/New_York:20261004T124500
DTSTAMP:20260420T045227
CREATED:20251215T192004Z
LAST-MODIFIED:20251222T153230Z
UID:10031950-1791112500-1791117900@holyspiritorleans.org
SUMMARY:Book Discussion Group (FR)
DESCRIPTION:The Book Discussion Group will meet in the Fireplace Room starting at 11:15 am today.
URL:https://holyspiritorleans.org/event/book-discussion-group-fr-3/2026-10-04/
LOCATION:Fireplace Room\, 204 Monument Road\, Orleans\, MA\, 02653\, United States
GEO:41.7656197;-69.9845821
X-APPLE-STRUCTURED-LOCATION;VALUE=URI;X-ADDRESS=Fireplace Room 204 Monument Road Orleans MA 02653 United States;X-APPLE-RADIUS=500;X-TITLE=204 Monument Road:geo:-69.9845821,41.7656197
END:VEVENT
BEGIN:VEVENT
DTSTART;TZID=America/New_York:20261008T160000
DTEND;TZID=America/New_York:20261008T170000
DTSTAMP:20260420T045227
CREATED:20251202T192513Z
LAST-MODIFIED:20260330T145230Z
UID:10031887-1791475200-1791478800@holyspiritorleans.org
SUMMARY:Centering Prayer (RR/MG)
DESCRIPTION:Centering Prayer will take place in either the Memorial Garden or Reception Room starting at 4:00 pm today.
URL:https://holyspiritorleans.org/event/centering-prayer-rr-mg/2026-10-08/
LOCATION:Memorial Garden\, MA\, United States
END:VEVENT
BEGIN:VEVENT
DTSTART;TZID=America/New_York:20261011T111500
DTEND;TZID=America/New_York:20261011T124500
DTSTAMP:20260420T045227
CREATED:20251215T192004Z
LAST-MODIFIED:20251222T153230Z
UID:10031951-1791717300-1791722700@holyspiritorleans.org
SUMMARY:Book Discussion Group (FR)
DESCRIPTION:The Book Discussion Group will meet in the Fireplace Room starting at 11:15 am today.
URL:https://holyspiritorleans.org/event/book-discussion-group-fr-3/2026-10-11/
LOCATION:Fireplace Room\, 204 Monument Road\, Orleans\, MA\, 02653\, United States
GEO:41.7656197;-69.9845821
X-APPLE-STRUCTURED-LOCATION;VALUE=URI;X-ADDRESS=Fireplace Room 204 Monument Road Orleans MA 02653 United States;X-APPLE-RADIUS=500;X-TITLE=204 Monument Road:geo:-69.9845821,41.7656197
END:VEVENT
BEGIN:VEVENT
DTSTART;TZID=America/New_York:20261015T160000
DTEND;TZID=America/New_York:20261015T170000
DTSTAMP:20260420T045227
CREATED:20251202T192513Z
LAST-MODIFIED:20260330T145230Z
UID:10031888-1792080000-1792083600@holyspiritorleans.org
SUMMARY:Centering Prayer (RR/MG)
DESCRIPTION:Centering Prayer will take place in either the Memorial Garden or Reception Room starting at 4:00 pm today.
URL:https://holyspiritorleans.org/event/centering-prayer-rr-mg/2026-10-15/
LOCATION:Memorial Garden\, MA\, United States
END:VEVENT
BEGIN:VEVENT
DTSTART;TZID=America/New_York:20261018T111500
DTEND;TZID=America/New_York:20261018T124500
DTSTAMP:20260420T045227
CREATED:20251215T192004Z
LAST-MODIFIED:20251222T153230Z
UID:10031952-1792322100-1792327500@holyspiritorleans.org
SUMMARY:Book Discussion Group (FR)
DESCRIPTION:The Book Discussion Group will meet in the Fireplace Room starting at 11:15 am today.
URL:https://holyspiritorleans.org/event/book-discussion-group-fr-3/2026-10-18/
LOCATION:Fireplace Room\, 204 Monument Road\, Orleans\, MA\, 02653\, United States
GEO:41.7656197;-69.9845821
X-APPLE-STRUCTURED-LOCATION;VALUE=URI;X-ADDRESS=Fireplace Room 204 Monument Road Orleans MA 02653 United States;X-APPLE-RADIUS=500;X-TITLE=204 Monument Road:geo:-69.9845821,41.7656197
END:VEVENT
BEGIN:VEVENT
DTSTART;TZID=America/New_York:20261022T160000
DTEND;TZID=America/New_York:20261022T170000
DTSTAMP:20260420T045227
CREATED:20251202T192513Z
LAST-MODIFIED:20260330T145230Z
UID:10031889-1792684800-1792688400@holyspiritorleans.org
SUMMARY:Centering Prayer (RR/MG)
DESCRIPTION:Centering Prayer will take place in either the Memorial Garden or Reception Room starting at 4:00 pm today.
URL:https://holyspiritorleans.org/event/centering-prayer-rr-mg/2026-10-22/
LOCATION:Memorial Garden\, MA\, United States
END:VEVENT
BEGIN:VEVENT
DTSTART;TZID=America/New_York:20261025T111500
DTEND;TZID=America/New_York:20261025T124500
DTSTAMP:20260420T045227
CREATED:20251215T192004Z
LAST-MODIFIED:20251222T153230Z
UID:10031953-1792926900-1792932300@holyspiritorleans.org
SUMMARY:Book Discussion Group (FR)
DESCRIPTION:The Book Discussion Group will meet in the Fireplace Room starting at 11:15 am today.
URL:https://holyspiritorleans.org/event/book-discussion-group-fr-3/2026-10-25/
LOCATION:Fireplace Room\, 204 Monument Road\, Orleans\, MA\, 02653\, United States
GEO:41.7656197;-69.9845821
X-APPLE-STRUCTURED-LOCATION;VALUE=URI;X-ADDRESS=Fireplace Room 204 Monument Road Orleans MA 02653 United States;X-APPLE-RADIUS=500;X-TITLE=204 Monument Road:geo:-69.9845821,41.7656197
END:VEVENT
BEGIN:VEVENT
DTSTART;TZID=America/New_York:20261029T160000
DTEND;TZID=America/New_York:20261029T170000
DTSTAMP:20260420T045227
CREATED:20251202T192513Z
LAST-MODIFIED:20260330T145230Z
UID:10031890-1793289600-1793293200@holyspiritorleans.org
SUMMARY:Centering Prayer (RR/MG)
DESCRIPTION:Centering Prayer will take place in either the Memorial Garden or Reception Room starting at 4:00 pm today.
URL:https://holyspiritorleans.org/event/centering-prayer-rr-mg/2026-10-29/
LOCATION:Memorial Garden\, MA\, United States
END:VEVENT
BEGIN:VEVENT
DTSTART;TZID=America/New_York:20261101T111500
DTEND;TZID=America/New_York:20261101T124500
DTSTAMP:20260420T045227
CREATED:20251215T192004Z
LAST-MODIFIED:20251222T153230Z
UID:10031954-1793531700-1793537100@holyspiritorleans.org
SUMMARY:Book Discussion Group (FR)
DESCRIPTION:The Book Discussion Group will meet in the Fireplace Room starting at 11:15 am today.
URL:https://holyspiritorleans.org/event/book-discussion-group-fr-3/2026-11-01/
LOCATION:Fireplace Room\, 204 Monument Road\, Orleans\, MA\, 02653\, United States
GEO:41.7656197;-69.9845821
X-APPLE-STRUCTURED-LOCATION;VALUE=URI;X-ADDRESS=Fireplace Room 204 Monument Road Orleans MA 02653 United States;X-APPLE-RADIUS=500;X-TITLE=204 Monument Road:geo:-69.9845821,41.7656197
END:VEVENT
BEGIN:VEVENT
DTSTART;TZID=America/New_York:20261105T133000
DTEND;TZID=America/New_York:20261105T150000
DTSTAMP:20260420T045227
CREATED:20260302T163924Z
LAST-MODIFIED:20260302T163924Z
UID:10032209-1793885400-1793890800@holyspiritorleans.org
SUMMARY:Outreach Committee (FR)
DESCRIPTION:The Outreach Committee will meet in the Fireplace Room starting at 1:30 p.m. today.
URL:https://holyspiritorleans.org/event/outreach-committee-fr-6/2026-11-05/
LOCATION:Fireplace Room\, 204 Monument Road\, Orleans\, MA\, 02653\, United States
GEO:41.7656197;-69.9845821
X-APPLE-STRUCTURED-LOCATION;VALUE=URI;X-ADDRESS=Fireplace Room 204 Monument Road Orleans MA 02653 United States;X-APPLE-RADIUS=500;X-TITLE=204 Monument Road:geo:-69.9845821,41.7656197
END:VEVENT
BEGIN:VEVENT
DTSTART;TZID=America/New_York:20261105T160000
DTEND;TZID=America/New_York:20261105T170000
DTSTAMP:20260420T045227
CREATED:20251202T192513Z
LAST-MODIFIED:20260330T145230Z
UID:10031891-1793894400-1793898000@holyspiritorleans.org
SUMMARY:Centering Prayer (RR/MG)
DESCRIPTION:Centering Prayer will take place in either the Memorial Garden or Reception Room starting at 4:00 pm today.
URL:https://holyspiritorleans.org/event/centering-prayer-rr-mg/2026-11-05/
LOCATION:Memorial Garden\, MA\, United States
END:VEVENT
BEGIN:VEVENT
DTSTART;TZID=America/New_York:20261108T111500
DTEND;TZID=America/New_York:20261108T124500
DTSTAMP:20260420T045227
CREATED:20251215T192004Z
LAST-MODIFIED:20251222T153230Z
UID:10031955-1794136500-1794141900@holyspiritorleans.org
SUMMARY:Book Discussion Group (FR)
DESCRIPTION:The Book Discussion Group will meet in the Fireplace Room starting at 11:15 am today.
URL:https://holyspiritorleans.org/event/book-discussion-group-fr-3/2026-11-08/
LOCATION:Fireplace Room\, 204 Monument Road\, Orleans\, MA\, 02653\, United States
GEO:41.7656197;-69.9845821
X-APPLE-STRUCTURED-LOCATION;VALUE=URI;X-ADDRESS=Fireplace Room 204 Monument Road Orleans MA 02653 United States;X-APPLE-RADIUS=500;X-TITLE=204 Monument Road:geo:-69.9845821,41.7656197
END:VEVENT
BEGIN:VEVENT
DTSTART;TZID=America/New_York:20261112T160000
DTEND;TZID=America/New_York:20261112T170000
DTSTAMP:20260420T045227
CREATED:20251202T192513Z
LAST-MODIFIED:20260330T145230Z
UID:10031892-1794499200-1794502800@holyspiritorleans.org
SUMMARY:Centering Prayer (RR/MG)
DESCRIPTION:Centering Prayer will take place in either the Memorial Garden or Reception Room starting at 4:00 pm today.
URL:https://holyspiritorleans.org/event/centering-prayer-rr-mg/2026-11-12/
LOCATION:Memorial Garden\, MA\, United States
END:VEVENT
BEGIN:VEVENT
DTSTART;TZID=America/New_York:20261115T111500
DTEND;TZID=America/New_York:20261115T124500
DTSTAMP:20260420T045227
CREATED:20251215T192004Z
LAST-MODIFIED:20251222T153230Z
UID:10031956-1794741300-1794746700@holyspiritorleans.org
SUMMARY:Book Discussion Group (FR)
DESCRIPTION:The Book Discussion Group will meet in the Fireplace Room starting at 11:15 am today.
URL:https://holyspiritorleans.org/event/book-discussion-group-fr-3/2026-11-15/
LOCATION:Fireplace Room\, 204 Monument Road\, Orleans\, MA\, 02653\, United States
GEO:41.7656197;-69.9845821
X-APPLE-STRUCTURED-LOCATION;VALUE=URI;X-ADDRESS=Fireplace Room 204 Monument Road Orleans MA 02653 United States;X-APPLE-RADIUS=500;X-TITLE=204 Monument Road:geo:-69.9845821,41.7656197
END:VEVENT
BEGIN:VEVENT
DTSTART;TZID=America/New_York:20261119T160000
DTEND;TZID=America/New_York:20261119T170000
DTSTAMP:20260420T045227
CREATED:20251202T192513Z
LAST-MODIFIED:20260330T145230Z
UID:10031893-1795104000-1795107600@holyspiritorleans.org
SUMMARY:Centering Prayer (RR/MG)
DESCRIPTION:Centering Prayer will take place in either the Memorial Garden or Reception Room starting at 4:00 pm today.
URL:https://holyspiritorleans.org/event/centering-prayer-rr-mg/2026-11-19/
LOCATION:Memorial Garden\, MA\, United States
END:VEVENT
END:VCALENDAR