BEGIN:VCALENDAR
VERSION:2.0
PRODID:-//The Church of the Holy Spirit - ECPv6.15.17.1//NONSGML v1.0//EN
CALSCALE:GREGORIAN
METHOD:PUBLISH
X-ORIGINAL-URL:https://holyspiritorleans.org
X-WR-CALDESC:Events for The Church of the Holy Spirit
REFRESH-INTERVAL;VALUE=DURATION:PT1H
X-Robots-Tag:noindex
X-PUBLISHED-TTL:PT1H
BEGIN:VTIMEZONE
TZID:America/New_York
BEGIN:DAYLIGHT
TZOFFSETFROM:-0500
TZOFFSETTO:-0400
TZNAME:EDT
DTSTART:20250309T070000
END:DAYLIGHT
BEGIN:STANDARD
TZOFFSETFROM:-0400
TZOFFSETTO:-0500
TZNAME:EST
DTSTART:20251102T060000
END:STANDARD
BEGIN:DAYLIGHT
TZOFFSETFROM:-0500
TZOFFSETTO:-0400
TZNAME:EDT
DTSTART:20260308T070000
END:DAYLIGHT
BEGIN:STANDARD
TZOFFSETFROM:-0400
TZOFFSETTO:-0500
TZNAME:EST
DTSTART:20261101T060000
END:STANDARD
BEGIN:DAYLIGHT
TZOFFSETFROM:-0500
TZOFFSETTO:-0400
TZNAME:EDT
DTSTART:20270314T070000
END:DAYLIGHT
BEGIN:STANDARD
TZOFFSETFROM:-0400
TZOFFSETTO:-0500
TZNAME:EST
DTSTART:20271107T060000
END:STANDARD
END:VTIMEZONE
BEGIN:VEVENT
DTSTART;TZID=America/New_York:20260423T160000
DTEND;TZID=America/New_York:20260423T170000
DTSTAMP:20260422T062421
CREATED:20251202T192513Z
LAST-MODIFIED:20260330T145230Z
UID:10031863-1776960000-1776963600@holyspiritorleans.org
SUMMARY:Centering Prayer (RR/MG)
DESCRIPTION:Centering Prayer will take place in either the Memorial Garden or Reception Room starting at 4:00 pm today.
URL:https://holyspiritorleans.org/event/centering-prayer-rr-mg/2026-04-23/
LOCATION:Memorial Garden\, MA\, United States
END:VEVENT
BEGIN:VEVENT
DTSTART;TZID=America/New_York:20260426T111500
DTEND;TZID=America/New_York:20260426T124500
DTSTAMP:20260422T062421
CREATED:20250818T150554Z
LAST-MODIFIED:20260128T164123Z
UID:10031008-1777202100-1777207500@holyspiritorleans.org
SUMMARY:Book Discussion Group (FR)
DESCRIPTION:There will be a meeting of the Book Discussion Group in the Fireplace Room starting at 11:15 a.m. today.
URL:https://holyspiritorleans.org/event/book-discussion-group-fr-2/2026-04-26/
LOCATION:Fireplace Room\, 204 Monument Road\, Orleans\, MA\, 02653\, United States
GEO:41.7656197;-69.9845821
X-APPLE-STRUCTURED-LOCATION;VALUE=URI;X-ADDRESS=Fireplace Room 204 Monument Road Orleans MA 02653 United States;X-APPLE-RADIUS=500;X-TITLE=204 Monument Road:geo:-69.9845821,41.7656197
END:VEVENT
BEGIN:VEVENT
DTSTART;TZID=America/New_York:20260430T160000
DTEND;TZID=America/New_York:20260430T170000
DTSTAMP:20260422T062421
CREATED:20251202T192513Z
LAST-MODIFIED:20260330T145230Z
UID:10031864-1777564800-1777568400@holyspiritorleans.org
SUMMARY:Centering Prayer (RR/MG)
DESCRIPTION:Centering Prayer will take place in either the Memorial Garden or Reception Room starting at 4:00 pm today.
URL:https://holyspiritorleans.org/event/centering-prayer-rr-mg/2026-04-30/
LOCATION:Memorial Garden\, MA\, United States
END:VEVENT
BEGIN:VEVENT
DTSTART;TZID=America/New_York:20260503T111500
DTEND;TZID=America/New_York:20260503T124500
DTSTAMP:20260422T062421
CREATED:20250818T150554Z
LAST-MODIFIED:20260128T164123Z
UID:10031009-1777806900-1777812300@holyspiritorleans.org
SUMMARY:Book Discussion Group (FR)
DESCRIPTION:There will be a meeting of the Book Discussion Group in the Fireplace Room starting at 11:15 a.m. today.
URL:https://holyspiritorleans.org/event/book-discussion-group-fr-2/2026-05-03/
LOCATION:Fireplace Room\, 204 Monument Road\, Orleans\, MA\, 02653\, United States
GEO:41.7656197;-69.9845821
X-APPLE-STRUCTURED-LOCATION;VALUE=URI;X-ADDRESS=Fireplace Room 204 Monument Road Orleans MA 02653 United States;X-APPLE-RADIUS=500;X-TITLE=204 Monument Road:geo:-69.9845821,41.7656197
END:VEVENT
BEGIN:VEVENT
DTSTART;TZID=America/New_York:20260507T160000
DTEND;TZID=America/New_York:20260507T170000
DTSTAMP:20260422T062421
CREATED:20251202T192513Z
LAST-MODIFIED:20260330T145230Z
UID:10031865-1778169600-1778173200@holyspiritorleans.org
SUMMARY:Centering Prayer (RR/MG)
DESCRIPTION:Centering Prayer will take place in either the Memorial Garden or Reception Room starting at 4:00 pm today.
URL:https://holyspiritorleans.org/event/centering-prayer-rr-mg/2026-05-07/
LOCATION:Memorial Garden\, MA\, United States
END:VEVENT
BEGIN:VEVENT
DTSTART;TZID=America/New_York:20260510T111500
DTEND;TZID=America/New_York:20260510T124500
DTSTAMP:20260422T062421
CREATED:20250818T150554Z
LAST-MODIFIED:20260128T164123Z
UID:10031010-1778411700-1778417100@holyspiritorleans.org
SUMMARY:Book Discussion Group (FR)
DESCRIPTION:There will be a meeting of the Book Discussion Group in the Fireplace Room starting at 11:15 a.m. today.
URL:https://holyspiritorleans.org/event/book-discussion-group-fr-2/2026-05-10/
LOCATION:Fireplace Room\, 204 Monument Road\, Orleans\, MA\, 02653\, United States
GEO:41.7656197;-69.9845821
X-APPLE-STRUCTURED-LOCATION;VALUE=URI;X-ADDRESS=Fireplace Room 204 Monument Road Orleans MA 02653 United States;X-APPLE-RADIUS=500;X-TITLE=204 Monument Road:geo:-69.9845821,41.7656197
END:VEVENT
BEGIN:VEVENT
DTSTART;TZID=America/New_York:20260514T160000
DTEND;TZID=America/New_York:20260514T170000
DTSTAMP:20260422T062421
CREATED:20251202T192513Z
LAST-MODIFIED:20260330T145230Z
UID:10031866-1778774400-1778778000@holyspiritorleans.org
SUMMARY:Centering Prayer (RR/MG)
DESCRIPTION:Centering Prayer will take place in either the Memorial Garden or Reception Room starting at 4:00 pm today.
URL:https://holyspiritorleans.org/event/centering-prayer-rr-mg/2026-05-14/
LOCATION:Memorial Garden\, MA\, United States
END:VEVENT
BEGIN:VEVENT
DTSTART;TZID=America/New_York:20260517T111500
DTEND;TZID=America/New_York:20260517T124500
DTSTAMP:20260422T062421
CREATED:20250818T150554Z
LAST-MODIFIED:20260128T164123Z
UID:10031011-1779016500-1779021900@holyspiritorleans.org
SUMMARY:Book Discussion Group (FR)
DESCRIPTION:There will be a meeting of the Book Discussion Group in the Fireplace Room starting at 11:15 a.m. today.
URL:https://holyspiritorleans.org/event/book-discussion-group-fr-2/2026-05-17/
LOCATION:Fireplace Room\, 204 Monument Road\, Orleans\, MA\, 02653\, United States
GEO:41.7656197;-69.9845821
X-APPLE-STRUCTURED-LOCATION;VALUE=URI;X-ADDRESS=Fireplace Room 204 Monument Road Orleans MA 02653 United States;X-APPLE-RADIUS=500;X-TITLE=204 Monument Road:geo:-69.9845821,41.7656197
END:VEVENT
BEGIN:VEVENT
DTSTART;TZID=America/New_York:20260521T160000
DTEND;TZID=America/New_York:20260521T170000
DTSTAMP:20260422T062422
CREATED:20251202T192513Z
LAST-MODIFIED:20260330T145230Z
UID:10031867-1779379200-1779382800@holyspiritorleans.org
SUMMARY:Centering Prayer (RR/MG)
DESCRIPTION:Centering Prayer will take place in either the Memorial Garden or Reception Room starting at 4:00 pm today.
URL:https://holyspiritorleans.org/event/centering-prayer-rr-mg/2026-05-21/
LOCATION:Memorial Garden\, MA\, United States
END:VEVENT
BEGIN:VEVENT
DTSTART;TZID=America/New_York:20260524T111500
DTEND;TZID=America/New_York:20260524T124500
DTSTAMP:20260422T062422
CREATED:20250818T150554Z
LAST-MODIFIED:20260128T164123Z
UID:10031012-1779621300-1779626700@holyspiritorleans.org
SUMMARY:Book Discussion Group (FR)
DESCRIPTION:There will be a meeting of the Book Discussion Group in the Fireplace Room starting at 11:15 a.m. today.
URL:https://holyspiritorleans.org/event/book-discussion-group-fr-2/2026-05-24/
LOCATION:Fireplace Room\, 204 Monument Road\, Orleans\, MA\, 02653\, United States
GEO:41.7656197;-69.9845821
X-APPLE-STRUCTURED-LOCATION;VALUE=URI;X-ADDRESS=Fireplace Room 204 Monument Road Orleans MA 02653 United States;X-APPLE-RADIUS=500;X-TITLE=204 Monument Road:geo:-69.9845821,41.7656197
END:VEVENT
BEGIN:VEVENT
DTSTART;TZID=America/New_York:20260528T160000
DTEND;TZID=America/New_York:20260528T170000
DTSTAMP:20260422T062422
CREATED:20251202T192513Z
LAST-MODIFIED:20260330T145230Z
UID:10031868-1779984000-1779987600@holyspiritorleans.org
SUMMARY:Centering Prayer (RR/MG)
DESCRIPTION:Centering Prayer will take place in either the Memorial Garden or Reception Room starting at 4:00 pm today.
URL:https://holyspiritorleans.org/event/centering-prayer-rr-mg/2026-05-28/
LOCATION:Memorial Garden\, MA\, United States
END:VEVENT
BEGIN:VEVENT
DTSTART;TZID=America/New_York:20260531T111500
DTEND;TZID=America/New_York:20260531T124500
DTSTAMP:20260422T062422
CREATED:20250818T150554Z
LAST-MODIFIED:20260128T164123Z
UID:10031013-1780226100-1780231500@holyspiritorleans.org
SUMMARY:Book Discussion Group (FR)
DESCRIPTION:There will be a meeting of the Book Discussion Group in the Fireplace Room starting at 11:15 a.m. today.
URL:https://holyspiritorleans.org/event/book-discussion-group-fr-2/2026-05-31/
LOCATION:Fireplace Room\, 204 Monument Road\, Orleans\, MA\, 02653\, United States
GEO:41.7656197;-69.9845821
X-APPLE-STRUCTURED-LOCATION;VALUE=URI;X-ADDRESS=Fireplace Room 204 Monument Road Orleans MA 02653 United States;X-APPLE-RADIUS=500;X-TITLE=204 Monument Road:geo:-69.9845821,41.7656197
END:VEVENT
BEGIN:VEVENT
DTSTART;TZID=America/New_York:20260604T160000
DTEND;TZID=America/New_York:20260604T170000
DTSTAMP:20260422T062422
CREATED:20251202T192513Z
LAST-MODIFIED:20260330T145230Z
UID:10031869-1780588800-1780592400@holyspiritorleans.org
SUMMARY:Centering Prayer (RR/MG)
DESCRIPTION:Centering Prayer will take place in either the Memorial Garden or Reception Room starting at 4:00 pm today.
URL:https://holyspiritorleans.org/event/centering-prayer-rr-mg/2026-06-04/
LOCATION:Memorial Garden\, MA\, United States
END:VEVENT
BEGIN:VEVENT
DTSTART;TZID=America/New_York:20260607T111500
DTEND;TZID=America/New_York:20260607T124500
DTSTAMP:20260422T062422
CREATED:20250818T150554Z
LAST-MODIFIED:20260128T164123Z
UID:10031014-1780830900-1780836300@holyspiritorleans.org
SUMMARY:Book Discussion Group (FR)
DESCRIPTION:There will be a meeting of the Book Discussion Group in the Fireplace Room starting at 11:15 a.m. today.
URL:https://holyspiritorleans.org/event/book-discussion-group-fr-2/2026-06-07/
LOCATION:Fireplace Room\, 204 Monument Road\, Orleans\, MA\, 02653\, United States
GEO:41.7656197;-69.9845821
X-APPLE-STRUCTURED-LOCATION;VALUE=URI;X-ADDRESS=Fireplace Room 204 Monument Road Orleans MA 02653 United States;X-APPLE-RADIUS=500;X-TITLE=204 Monument Road:geo:-69.9845821,41.7656197
END:VEVENT
BEGIN:VEVENT
DTSTART;TZID=America/New_York:20260611T160000
DTEND;TZID=America/New_York:20260611T170000
DTSTAMP:20260422T062422
CREATED:20251202T192513Z
LAST-MODIFIED:20260330T145230Z
UID:10031870-1781193600-1781197200@holyspiritorleans.org
SUMMARY:Centering Prayer (RR/MG)
DESCRIPTION:Centering Prayer will take place in either the Memorial Garden or Reception Room starting at 4:00 pm today.
URL:https://holyspiritorleans.org/event/centering-prayer-rr-mg/2026-06-11/
LOCATION:Memorial Garden\, MA\, United States
END:VEVENT
BEGIN:VEVENT
DTSTART;TZID=America/New_York:20260614T111500
DTEND;TZID=America/New_York:20260614T124500
DTSTAMP:20260422T062422
CREATED:20250818T150554Z
LAST-MODIFIED:20260128T164123Z
UID:10031015-1781435700-1781441100@holyspiritorleans.org
SUMMARY:Book Discussion Group (FR)
DESCRIPTION:There will be a meeting of the Book Discussion Group in the Fireplace Room starting at 11:15 a.m. today.
URL:https://holyspiritorleans.org/event/book-discussion-group-fr-2/2026-06-14/
LOCATION:Fireplace Room\, 204 Monument Road\, Orleans\, MA\, 02653\, United States
GEO:41.7656197;-69.9845821
X-APPLE-STRUCTURED-LOCATION;VALUE=URI;X-ADDRESS=Fireplace Room 204 Monument Road Orleans MA 02653 United States;X-APPLE-RADIUS=500;X-TITLE=204 Monument Road:geo:-69.9845821,41.7656197
END:VEVENT
BEGIN:VEVENT
DTSTART;TZID=America/New_York:20260618T160000
DTEND;TZID=America/New_York:20260618T170000
DTSTAMP:20260422T062422
CREATED:20251202T192513Z
LAST-MODIFIED:20260330T145230Z
UID:10031871-1781798400-1781802000@holyspiritorleans.org
SUMMARY:Centering Prayer (RR/MG)
DESCRIPTION:Centering Prayer will take place in either the Memorial Garden or Reception Room starting at 4:00 pm today.
URL:https://holyspiritorleans.org/event/centering-prayer-rr-mg/2026-06-18/
LOCATION:Memorial Garden\, MA\, United States
END:VEVENT
BEGIN:VEVENT
DTSTART;TZID=America/New_York:20260621T111500
DTEND;TZID=America/New_York:20260621T124500
DTSTAMP:20260422T062422
CREATED:20250818T150554Z
LAST-MODIFIED:20260128T164123Z
UID:10031016-1782040500-1782045900@holyspiritorleans.org
SUMMARY:Book Discussion Group (FR)
DESCRIPTION:There will be a meeting of the Book Discussion Group in the Fireplace Room starting at 11:15 a.m. today.
URL:https://holyspiritorleans.org/event/book-discussion-group-fr-2/2026-06-21/
LOCATION:Fireplace Room\, 204 Monument Road\, Orleans\, MA\, 02653\, United States
GEO:41.7656197;-69.9845821
X-APPLE-STRUCTURED-LOCATION;VALUE=URI;X-ADDRESS=Fireplace Room 204 Monument Road Orleans MA 02653 United States;X-APPLE-RADIUS=500;X-TITLE=204 Monument Road:geo:-69.9845821,41.7656197
END:VEVENT
BEGIN:VEVENT
DTSTART;TZID=America/New_York:20260625T160000
DTEND;TZID=America/New_York:20260625T170000
DTSTAMP:20260422T062422
CREATED:20251202T192513Z
LAST-MODIFIED:20260330T145230Z
UID:10031872-1782403200-1782406800@holyspiritorleans.org
SUMMARY:Centering Prayer (RR/MG)
DESCRIPTION:Centering Prayer will take place in either the Memorial Garden or Reception Room starting at 4:00 pm today.
URL:https://holyspiritorleans.org/event/centering-prayer-rr-mg/2026-06-25/
LOCATION:Memorial Garden\, MA\, United States
END:VEVENT
BEGIN:VEVENT
DTSTART;TZID=America/New_York:20260628T111500
DTEND;TZID=America/New_York:20260628T124500
DTSTAMP:20260422T062422
CREATED:20250818T150554Z
LAST-MODIFIED:20260128T164123Z
UID:10031017-1782645300-1782650700@holyspiritorleans.org
SUMMARY:Book Discussion Group (FR)
DESCRIPTION:There will be a meeting of the Book Discussion Group in the Fireplace Room starting at 11:15 a.m. today.
URL:https://holyspiritorleans.org/event/book-discussion-group-fr-2/2026-06-28/
LOCATION:Fireplace Room\, 204 Monument Road\, Orleans\, MA\, 02653\, United States
GEO:41.7656197;-69.9845821
X-APPLE-STRUCTURED-LOCATION;VALUE=URI;X-ADDRESS=Fireplace Room 204 Monument Road Orleans MA 02653 United States;X-APPLE-RADIUS=500;X-TITLE=204 Monument Road:geo:-69.9845821,41.7656197
END:VEVENT
BEGIN:VEVENT
DTSTART;TZID=America/New_York:20260702T160000
DTEND;TZID=America/New_York:20260702T170000
DTSTAMP:20260422T062422
CREATED:20251202T192513Z
LAST-MODIFIED:20260330T145230Z
UID:10031873-1783008000-1783011600@holyspiritorleans.org
SUMMARY:Centering Prayer (RR/MG)
DESCRIPTION:Centering Prayer will take place in either the Memorial Garden or Reception Room starting at 4:00 pm today.
URL:https://holyspiritorleans.org/event/centering-prayer-rr-mg/2026-07-02/
LOCATION:Memorial Garden\, MA\, United States
END:VEVENT
BEGIN:VEVENT
DTSTART;TZID=America/New_York:20260709T160000
DTEND;TZID=America/New_York:20260709T170000
DTSTAMP:20260422T062422
CREATED:20251202T192513Z
LAST-MODIFIED:20260330T145230Z
UID:10031874-1783612800-1783616400@holyspiritorleans.org
SUMMARY:Centering Prayer (RR/MG)
DESCRIPTION:Centering Prayer will take place in either the Memorial Garden or Reception Room starting at 4:00 pm today.
URL:https://holyspiritorleans.org/event/centering-prayer-rr-mg/2026-07-09/
LOCATION:Memorial Garden\, MA\, United States
END:VEVENT
BEGIN:VEVENT
DTSTART;TZID=America/New_York:20260716T160000
DTEND;TZID=America/New_York:20260716T170000
DTSTAMP:20260422T062422
CREATED:20251202T192513Z
LAST-MODIFIED:20260330T145230Z
UID:10031875-1784217600-1784221200@holyspiritorleans.org
SUMMARY:Centering Prayer (RR/MG)
DESCRIPTION:Centering Prayer will take place in either the Memorial Garden or Reception Room starting at 4:00 pm today.
URL:https://holyspiritorleans.org/event/centering-prayer-rr-mg/2026-07-16/
LOCATION:Memorial Garden\, MA\, United States
END:VEVENT
BEGIN:VEVENT
DTSTART;TZID=America/New_York:20260723T160000
DTEND;TZID=America/New_York:20260723T170000
DTSTAMP:20260422T062422
CREATED:20251202T192513Z
LAST-MODIFIED:20260330T145230Z
UID:10031876-1784822400-1784826000@holyspiritorleans.org
SUMMARY:Centering Prayer (RR/MG)
DESCRIPTION:Centering Prayer will take place in either the Memorial Garden or Reception Room starting at 4:00 pm today.
URL:https://holyspiritorleans.org/event/centering-prayer-rr-mg/2026-07-23/
LOCATION:Memorial Garden\, MA\, United States
END:VEVENT
BEGIN:VEVENT
DTSTART;TZID=America/New_York:20260730T160000
DTEND;TZID=America/New_York:20260730T170000
DTSTAMP:20260422T062422
CREATED:20251202T192513Z
LAST-MODIFIED:20260330T145230Z
UID:10031877-1785427200-1785430800@holyspiritorleans.org
SUMMARY:Centering Prayer (RR/MG)
DESCRIPTION:Centering Prayer will take place in either the Memorial Garden or Reception Room starting at 4:00 pm today.
URL:https://holyspiritorleans.org/event/centering-prayer-rr-mg/2026-07-30/
LOCATION:Memorial Garden\, MA\, United States
END:VEVENT
BEGIN:VEVENT
DTSTART;TZID=America/New_York:20260806T160000
DTEND;TZID=America/New_York:20260806T170000
DTSTAMP:20260422T062422
CREATED:20251202T192513Z
LAST-MODIFIED:20260330T145230Z
UID:10031878-1786032000-1786035600@holyspiritorleans.org
SUMMARY:Centering Prayer (RR/MG)
DESCRIPTION:Centering Prayer will take place in either the Memorial Garden or Reception Room starting at 4:00 pm today.
URL:https://holyspiritorleans.org/event/centering-prayer-rr-mg/2026-08-06/
LOCATION:Memorial Garden\, MA\, United States
END:VEVENT
BEGIN:VEVENT
DTSTART;TZID=America/New_York:20260813T160000
DTEND;TZID=America/New_York:20260813T170000
DTSTAMP:20260422T062422
CREATED:20251202T192513Z
LAST-MODIFIED:20260330T145230Z
UID:10031879-1786636800-1786640400@holyspiritorleans.org
SUMMARY:Centering Prayer (RR/MG)
DESCRIPTION:Centering Prayer will take place in either the Memorial Garden or Reception Room starting at 4:00 pm today.
URL:https://holyspiritorleans.org/event/centering-prayer-rr-mg/2026-08-13/
LOCATION:Memorial Garden\, MA\, United States
END:VEVENT
BEGIN:VEVENT
DTSTART;TZID=America/New_York:20260820T160000
DTEND;TZID=America/New_York:20260820T170000
DTSTAMP:20260422T062422
CREATED:20251202T192513Z
LAST-MODIFIED:20260330T145230Z
UID:10031880-1787241600-1787245200@holyspiritorleans.org
SUMMARY:Centering Prayer (RR/MG)
DESCRIPTION:Centering Prayer will take place in either the Memorial Garden or Reception Room starting at 4:00 pm today.
URL:https://holyspiritorleans.org/event/centering-prayer-rr-mg/2026-08-20/
LOCATION:Memorial Garden\, MA\, United States
END:VEVENT
BEGIN:VEVENT
DTSTART;TZID=America/New_York:20260827T160000
DTEND;TZID=America/New_York:20260827T170000
DTSTAMP:20260422T062422
CREATED:20251202T192513Z
LAST-MODIFIED:20260330T145230Z
UID:10031881-1787846400-1787850000@holyspiritorleans.org
SUMMARY:Centering Prayer (RR/MG)
DESCRIPTION:Centering Prayer will take place in either the Memorial Garden or Reception Room starting at 4:00 pm today.
URL:https://holyspiritorleans.org/event/centering-prayer-rr-mg/2026-08-27/
LOCATION:Memorial Garden\, MA\, United States
END:VEVENT
BEGIN:VEVENT
DTSTART;TZID=America/New_York:20260903T133000
DTEND;TZID=America/New_York:20260903T150000
DTSTAMP:20260422T062422
CREATED:20260302T163924Z
LAST-MODIFIED:20260302T163924Z
UID:10032207-1788442200-1788447600@holyspiritorleans.org
SUMMARY:Outreach Committee (FR)
DESCRIPTION:The Outreach Committee will meet in the Fireplace Room starting at 1:30 p.m. today.
URL:https://holyspiritorleans.org/event/outreach-committee-fr-6/2026-09-03/
LOCATION:Fireplace Room\, 204 Monument Road\, Orleans\, MA\, 02653\, United States
GEO:41.7656197;-69.9845821
X-APPLE-STRUCTURED-LOCATION;VALUE=URI;X-ADDRESS=Fireplace Room 204 Monument Road Orleans MA 02653 United States;X-APPLE-RADIUS=500;X-TITLE=204 Monument Road:geo:-69.9845821,41.7656197
END:VEVENT
END:VCALENDAR