BEGIN:VCALENDAR
VERSION:2.0
PRODID:-//The Church of the Holy Spirit - ECPv6.15.17.1//NONSGML v1.0//EN
CALSCALE:GREGORIAN
METHOD:PUBLISH
X-WR-CALNAME:The Church of the Holy Spirit
X-ORIGINAL-URL:https://holyspiritorleans.org
X-WR-CALDESC:Events for The Church of the Holy Spirit
REFRESH-INTERVAL;VALUE=DURATION:PT1H
X-Robots-Tag:noindex
X-PUBLISHED-TTL:PT1H
BEGIN:VTIMEZONE
TZID:America/New_York
BEGIN:DAYLIGHT
TZOFFSETFROM:-0500
TZOFFSETTO:-0400
TZNAME:EDT
DTSTART:20240310T070000
END:DAYLIGHT
BEGIN:STANDARD
TZOFFSETFROM:-0400
TZOFFSETTO:-0500
TZNAME:EST
DTSTART:20241103T060000
END:STANDARD
BEGIN:DAYLIGHT
TZOFFSETFROM:-0500
TZOFFSETTO:-0400
TZNAME:EDT
DTSTART:20250309T070000
END:DAYLIGHT
BEGIN:STANDARD
TZOFFSETFROM:-0400
TZOFFSETTO:-0500
TZNAME:EST
DTSTART:20251102T060000
END:STANDARD
BEGIN:DAYLIGHT
TZOFFSETFROM:-0500
TZOFFSETTO:-0400
TZNAME:EDT
DTSTART:20260308T070000
END:DAYLIGHT
BEGIN:STANDARD
TZOFFSETFROM:-0400
TZOFFSETTO:-0500
TZNAME:EST
DTSTART:20261101T060000
END:STANDARD
END:VTIMEZONE
BEGIN:VEVENT
DTSTART;TZID=America/New_York:20250414T100000
DTEND;TZID=America/New_York:20250414T130000
DTSTAMP:20260420T043852
CREATED:20241202T185110Z
LAST-MODIFIED:20250527T152123Z
UID:10029820-1744624800-1744635600@holyspiritorleans.org
SUMMARY:Free Shop (GR)
DESCRIPTION:The Free Shop will be open in the Gathering Room starting at 10:00 a.m. today.
URL:https://holyspiritorleans.org/event/free-shop-gr-5/2025-04-14/
LOCATION:Gathering Room\, 204 Monument Road\, Orleans\, MA\, 02653\, United States
GEO:41.7656197;-69.9845821
X-APPLE-STRUCTURED-LOCATION;VALUE=URI;X-ADDRESS=Gathering Room 204 Monument Road Orleans MA 02653 United States;X-APPLE-RADIUS=500;X-TITLE=204 Monument Road:geo:-69.9845821,41.7656197
END:VEVENT
BEGIN:VEVENT
DTSTART;TZID=America/New_York:20250413T150000
DTEND;TZID=America/New_York:20250413T170000
DTSTAMP:20260420T043852
CREATED:20250210T182338Z
LAST-MODIFIED:20250210T182338Z
UID:10030678-1744556400-1744563600@holyspiritorleans.org
SUMMARY:Visit of Author Sebastian Junger (PH)
DESCRIPTION:Author of In My Time of Dying\, Sebastian Junger\, will visit CHS today starting at 3:00 p.m. in the Parish Hall.
URL:https://holyspiritorleans.org/event/visit-of-author-sebastian-junger-ph/
LOCATION:Parish Hall\, 204 Monument Road\, Orleans\, MA\, 02653\, United States
GEO:41.7656197;-69.9845821
X-APPLE-STRUCTURED-LOCATION;VALUE=URI;X-ADDRESS=Parish Hall 204 Monument Road Orleans MA 02653 United States;X-APPLE-RADIUS=500;X-TITLE=204 Monument Road:geo:-69.9845821,41.7656197
END:VEVENT
BEGIN:VEVENT
DTSTART;TZID=America/New_York:20250413T111500
DTEND;TZID=America/New_York:20250413T124500
DTSTAMP:20260420T043852
CREATED:20241205T161135Z
LAST-MODIFIED:20250519T154338Z
UID:10030311-1744542900-1744548300@holyspiritorleans.org
SUMMARY:Book Discussion Group (FR)
DESCRIPTION:The Book Discussion Group will meet in the Fireplace Room starting at 11:15 p.m. today.
URL:https://holyspiritorleans.org/event/book-discussion-group-fr/2025-04-13/
LOCATION:Fireplace Room\, 204 Monument Road\, Orleans\, MA\, 02653\, United States
GEO:41.7656197;-69.9845821
X-APPLE-STRUCTURED-LOCATION;VALUE=URI;X-ADDRESS=Fireplace Room 204 Monument Road Orleans MA 02653 United States;X-APPLE-RADIUS=500;X-TITLE=204 Monument Road:geo:-69.9845821,41.7656197
END:VEVENT
BEGIN:VEVENT
DTSTART;TZID=America/New_York:20250413T100000
DTEND;TZID=America/New_York:20250413T111500
DTSTAMP:20260420T043852
CREATED:20241125T191411Z
LAST-MODIFIED:20241125T191411Z
UID:10029613-1744538400-1744542900@holyspiritorleans.org
SUMMARY:Holy Eucharist (Ch/LS)
DESCRIPTION:A service of Holy Eucharist will be held in the Church and via Live Stream starting at 10:00 a.m. today.
URL:https://holyspiritorleans.org/event/holy-eucharist-ch-ls-2/2025-04-13/
LOCATION:Church\, Select a Country:
END:VEVENT
BEGIN:VEVENT
DTSTART;TZID=America/New_York:20250413T094500
DTEND;TZID=America/New_York:20250413T111500
DTSTAMP:20260420T043852
CREATED:20240718T170258Z
LAST-MODIFIED:20241216T190830Z
UID:10029345-1744537500-1744542900@holyspiritorleans.org
SUMMARY:Church School/Nursery Care (PHLL)
DESCRIPTION:Church School and Nursery Care will take place in the Parish Hall\, Lower Level starting at 9:45 a.m. today.
URL:https://holyspiritorleans.org/event/church-school-nursery-care-phll/2025-04-13/
LOCATION:Lower Level Parish Hall
END:VEVENT
BEGIN:VEVENT
DTSTART;TZID=America/New_York:20250413T084500
DTEND;TZID=America/New_York:20250413T093000
DTSTAMP:20260420T043852
CREATED:20241125T191023Z
LAST-MODIFIED:20241205T162116Z
UID:10029561-1744533900-1744536600@holyspiritorleans.org
SUMMARY:Glimpse of the Gospel (FR/Z)
DESCRIPTION:Glimpse of the Gospel will be held in the Fireplace Room and via Zoom starting at 8:45 a.m.
URL:https://holyspiritorleans.org/event/glimpse-of-the-gospel-fr-2/2025-04-13/
LOCATION:Fireplace Room\, 204 Monument Road\, Orleans\, MA\, 02653\, United States
GEO:41.7656197;-69.9845821
X-APPLE-STRUCTURED-LOCATION;VALUE=URI;X-ADDRESS=Fireplace Room 204 Monument Road Orleans MA 02653 United States;X-APPLE-RADIUS=500;X-TITLE=204 Monument Road:geo:-69.9845821,41.7656197
END:VEVENT
BEGIN:VEVENT
DTSTART;VALUE=DATE:20250413
DTEND;VALUE=DATE:20250414
DTSTAMP:20260420T043852
CREATED:20250203T171746Z
LAST-MODIFIED:20250203T171746Z
UID:10030657-1744502400-1744588799@holyspiritorleans.org
SUMMARY:Palm Sunday
DESCRIPTION:
URL:https://holyspiritorleans.org/event/palm-sunday/
LOCATION:MA
ORGANIZER;CN="Church of the Holy Spirit":MAILTO:holyspiritorleansadmin@verizon.net
END:VEVENT
BEGIN:VEVENT
DTSTART;TZID=America/New_York:20250411T093000
DTEND;TZID=America/New_York:20250411T110000
DTSTAMP:20260420T043852
CREATED:20250128T184155Z
LAST-MODIFIED:20250519T144413Z
UID:10030625-1744363800-1744369200@holyspiritorleans.org
SUMMARY:Belladonnas Rehearsal (Ch/CR)
DESCRIPTION:Belladonnas will hold a rehearsal in the Choir Room and/or Church starting at 9:30 a.m. today.
URL:https://holyspiritorleans.org/event/belladonnas-rehearsal-ch-cr-2/2025-04-11/
LOCATION:Choir Room\, 204 Monument Road\, Orleans\, MA\, 02653\, United States
END:VEVENT
BEGIN:VEVENT
DTSTART;TZID=America/New_York:20250410T143000
DTEND;TZID=America/New_York:20250410T160000
DTSTAMP:20260420T043852
CREATED:20241205T191841Z
LAST-MODIFIED:20241205T191841Z
UID:10030489-1744295400-1744300800@holyspiritorleans.org
SUMMARY:Finance Committee (FR)
DESCRIPTION:The Finance Committee will meet in the Fireplace Room starting at 2:30 p.m. today.
URL:https://holyspiritorleans.org/event/finance-committee-fr/2025-04-10/
LOCATION:Fireplace Room\, 204 Monument Road\, Orleans\, MA\, 02653\, United States
GEO:41.7656197;-69.9845821
X-APPLE-STRUCTURED-LOCATION;VALUE=URI;X-ADDRESS=Fireplace Room 204 Monument Road Orleans MA 02653 United States;X-APPLE-RADIUS=500;X-TITLE=204 Monument Road:geo:-69.9845821,41.7656197
END:VEVENT
BEGIN:VEVENT
DTSTART;TZID=America/New_York:20250410T110000
DTEND;TZID=America/New_York:20250410T113000
DTSTAMP:20260420T043852
CREATED:20241202T164407Z
LAST-MODIFIED:20250911T160212Z
UID:10029769-1744282800-1744284600@holyspiritorleans.org
SUMMARY:Holy Eucharist & Prayers for Healing (Ch)
DESCRIPTION:A service of Holy Eucharist with Prayers for Healing will be held today starting at 11:00 a.m.
URL:https://holyspiritorleans.org/event/holy-eucharist-prayers-for-healing-ch-6/2025-04-10/
LOCATION:Church\, Select a Country:
END:VEVENT
BEGIN:VEVENT
DTSTART;TZID=America/New_York:20250409T193000
DTEND;TZID=America/New_York:20250409T203000
DTSTAMP:20260420T043852
CREATED:20250203T171354Z
LAST-MODIFIED:20250203T171354Z
UID:10030656-1744227000-1744230600@holyspiritorleans.org
SUMMARY:Choir Rehearsal (Ch)
DESCRIPTION:There will be a Choir Rehearsal in the Church Starting at 7:30 p.m. today.
URL:https://holyspiritorleans.org/event/choir-rehearsal-ch/2025-04-09/
LOCATION:Church\, Select a Country:
END:VEVENT
BEGIN:VEVENT
DTSTART;TZID=America/New_York:20250409T190000
DTEND;TZID=America/New_York:20250409T203000
DTSTAMP:20260420T043852
CREATED:20241216T171503Z
LAST-MODIFIED:20251124T160625Z
UID:10030563-1744225200-1744230600@holyspiritorleans.org
SUMMARY:Al Anon (FR)
DESCRIPTION:Al Anon will meet in the Fireplace Room tonight starting at 7:00 p.m.
URL:https://holyspiritorleans.org/event/al-anon-fr-2/2025-04-09/
LOCATION:Fireplace Room\, 204 Monument Road\, Orleans\, MA\, 02653\, United States
GEO:41.7656197;-69.9845821
X-APPLE-STRUCTURED-LOCATION;VALUE=URI;X-ADDRESS=Fireplace Room 204 Monument Road Orleans MA 02653 United States;X-APPLE-RADIUS=500;X-TITLE=204 Monument Road:geo:-69.9845821,41.7656197
END:VEVENT
BEGIN:VEVENT
DTSTART;TZID=America/New_York:20250409T173000
DTEND;TZID=America/New_York:20250409T191500
DTSTAMP:20260420T043852
CREATED:20250203T170657Z
LAST-MODIFIED:20250203T170657Z
UID:10030651-1744219800-1744226100@holyspiritorleans.org
SUMMARY:Justice\, Joy & Daily Bread (PH/PK)
DESCRIPTION:“Justice\, Joy & Daily Bread” an educational program and Lenten supper\, will be held in the Parish Hall starting at 5:30 p.m. today.
URL:https://holyspiritorleans.org/event/justice-joy-daily-bread-ph-pk/2025-04-09/
LOCATION:Parish Hall & Kitchen\, MA\, United States
END:VEVENT
BEGIN:VEVENT
DTSTART;TZID=America/New_York:20250409T100000
DTEND;TZID=America/New_York:20250409T130000
DTSTAMP:20260420T043852
CREATED:20250402T173006Z
LAST-MODIFIED:20250527T152001Z
UID:10029842-1744192800-1744203600@holyspiritorleans.org
SUMMARY:Free Shop (GR)
DESCRIPTION:The Free Shop will be open in the Gathering Room starting at 10:00 a.m. today.
URL:https://holyspiritorleans.org/event/free-shop-gr-6-2/2025-04-09/
LOCATION:Gathering Room\, 204 Monument Road\, Orleans\, MA\, 02653\, United States
GEO:41.7656197;-69.9845821
X-APPLE-STRUCTURED-LOCATION;VALUE=URI;X-ADDRESS=Gathering Room 204 Monument Road Orleans MA 02653 United States;X-APPLE-RADIUS=500;X-TITLE=204 Monument Road:geo:-69.9845821,41.7656197
END:VEVENT
BEGIN:VEVENT
DTSTART;TZID=America/New_York:20250409T093000
DTEND;TZID=America/New_York:20250409T110000
DTSTAMP:20260420T043852
CREATED:20241205T184433Z
LAST-MODIFIED:20250911T170017Z
UID:10030435-1744191000-1744196400@holyspiritorleans.org
SUMMARY:Officers Meeting (FR)
DESCRIPTION:There will be an Officers Meeting in the Fireplace Room starting at 9:30 a.m. today.
URL:https://holyspiritorleans.org/event/officers-meeting-fr-3/2025-04-09/
LOCATION:Fireplace Room\, 204 Monument Road\, Orleans\, MA\, 02653\, United States
GEO:41.7656197;-69.9845821
X-APPLE-STRUCTURED-LOCATION;VALUE=URI;X-ADDRESS=Fireplace Room 204 Monument Road Orleans MA 02653 United States;X-APPLE-RADIUS=500;X-TITLE=204 Monument Road:geo:-69.9845821,41.7656197
END:VEVENT
BEGIN:VEVENT
DTSTART;TZID=America/New_York:20250408T140000
DTEND;TZID=America/New_York:20250408T153000
DTSTAMP:20260420T043852
CREATED:20241205T185857Z
LAST-MODIFIED:20250911T174228Z
UID:10030477-1744120800-1744126200@holyspiritorleans.org
SUMMARY:Pastoral Care Givers (FR)
DESCRIPTION:The Pastoral Care Givers will meet in the Fireplace Room starting at 2:00 p.m. today.
URL:https://holyspiritorleans.org/event/pastoral-care-givers-fr/2025-04-08/
LOCATION:Fireplace Room\, 204 Monument Road\, Orleans\, MA\, 02653\, United States
GEO:41.7656197;-69.9845821
X-APPLE-STRUCTURED-LOCATION;VALUE=URI;X-ADDRESS=Fireplace Room 204 Monument Road Orleans MA 02653 United States;X-APPLE-RADIUS=500;X-TITLE=204 Monument Road:geo:-69.9845821,41.7656197
END:VEVENT
BEGIN:VEVENT
DTSTART;TZID=America/New_York:20250408T123000
DTEND;TZID=America/New_York:20250408T133000
DTSTAMP:20260420T043852
CREATED:20250401T190822Z
LAST-MODIFIED:20250401T190822Z
UID:10030771-1744115400-1744119000@holyspiritorleans.org
SUMMARY:Health Ministry
DESCRIPTION:The Health Ministry will meet in the Fireplace Room today at 12:30 pm.
URL:https://holyspiritorleans.org/event/health-ministry/
LOCATION:Fireplace Room\, 204 Monument Road\, Orleans\, MA\, 02653\, United States
GEO:41.7656197;-69.9845821
X-APPLE-STRUCTURED-LOCATION;VALUE=URI;X-ADDRESS=Fireplace Room 204 Monument Road Orleans MA 02653 United States;X-APPLE-RADIUS=500;X-TITLE=204 Monument Road:geo:-69.9845821,41.7656197
END:VEVENT
BEGIN:VEVENT
DTSTART;TZID=America/New_York:20250408T113000
DTEND;TZID=America/New_York:20250408T123000
DTSTAMP:20260420T043852
CREATED:20241205T183949Z
LAST-MODIFIED:20250911T174138Z
UID:10030383-1744111800-1744115400@holyspiritorleans.org
SUMMARY:Staff Meeting (Ofc)
DESCRIPTION:A Staff Meeting will be held in the office starting at 11:30 a.m. today.
URL:https://holyspiritorleans.org/event/staff-meeting-ofc-3/2025-04-08/
LOCATION:Office\, MA\, United States
END:VEVENT
BEGIN:VEVENT
DTSTART;TZID=America/New_York:20250408T100000
DTEND;TZID=America/New_York:20250408T110000
DTSTAMP:20260420T043852
CREATED:20241202T164009Z
LAST-MODIFIED:20241202T164009Z
UID:10029716-1744106400-1744110000@holyspiritorleans.org
SUMMARY:Lectio Divina Service (Z)
DESCRIPTION:A Lectio Divina Service will be held via Zoom starting at 10:00 a.m. today.
URL:https://holyspiritorleans.org/event/lectio-divina-service-z-2/2025-04-08/
LOCATION:Zoom\, 204 Monument Road\, Orleans\, MA\, 02653\, United States
END:VEVENT
BEGIN:VEVENT
DTSTART;TZID=America/New_York:20250407T153000
DTEND;TZID=America/New_York:20250407T170000
DTSTAMP:20260420T043852
CREATED:20241205T183100Z
LAST-MODIFIED:20250811T171755Z
UID:10030361-1744039800-1744045200@holyspiritorleans.org
SUMMARY:Sustainability Team (FR)
DESCRIPTION:The Sustainability Team will meet in the Fireplace Room starting at 3:30 p.m. today.
URL:https://holyspiritorleans.org/event/sustainability-team-fr-2/2025-04-07/
LOCATION:Fireplace Room\, 204 Monument Road\, Orleans\, MA\, 02653\, United States
GEO:41.7656197;-69.9845821
X-APPLE-STRUCTURED-LOCATION;VALUE=URI;X-ADDRESS=Fireplace Room 204 Monument Road Orleans MA 02653 United States;X-APPLE-RADIUS=500;X-TITLE=204 Monument Road:geo:-69.9845821,41.7656197
END:VEVENT
BEGIN:VEVENT
DTSTART;TZID=America/New_York:20250407T130000
DTEND;TZID=America/New_York:20250407T143000
DTSTAMP:20260420T043852
CREATED:20250218T164208Z
LAST-MODIFIED:20250218T164208Z
UID:10030693-1744030800-1744036200@holyspiritorleans.org
SUMMARY:Sacred Ground (FR)
DESCRIPTION:The Sacred Ground program will be held in the Fireplace Room starting at 1:00p.m. today.
URL:https://holyspiritorleans.org/event/sacred-ground-fr-2/2025-04-07/
LOCATION:Fireplace Room\, 204 Monument Road\, Orleans\, MA\, 02653\, United States
GEO:41.7656197;-69.9845821
X-APPLE-STRUCTURED-LOCATION;VALUE=URI;X-ADDRESS=Fireplace Room 204 Monument Road Orleans MA 02653 United States;X-APPLE-RADIUS=500;X-TITLE=204 Monument Road:geo:-69.9845821,41.7656197
END:VEVENT
BEGIN:VEVENT
DTSTART;TZID=America/New_York:20250407T100000
DTEND;TZID=America/New_York:20250407T140000
DTSTAMP:20260420T043852
CREATED:20241205T154243Z
LAST-MODIFIED:20250908T181456Z
UID:10030258-1744020000-1744034400@holyspiritorleans.org
SUMMARY:Kimball Guild (KH)
DESCRIPTION:The Kimball Guild will meet in the Kimball House starting at 10:00 a.m. today.
URL:https://holyspiritorleans.org/event/kimball-guild-kh-2/2025-04-07/
LOCATION:Kimball House\, 204 Monument Road\, Orleans\, MA\, 02653\, United States
END:VEVENT
BEGIN:VEVENT
DTSTART;TZID=America/New_York:20250407T100000
DTEND;TZID=America/New_York:20250407T130000
DTSTAMP:20260420T043852
CREATED:20241202T185110Z
LAST-MODIFIED:20250527T152123Z
UID:10029819-1744020000-1744030800@holyspiritorleans.org
SUMMARY:Free Shop (GR)
DESCRIPTION:The Free Shop will be open in the Gathering Room starting at 10:00 a.m. today.
URL:https://holyspiritorleans.org/event/free-shop-gr-5/2025-04-07/
LOCATION:Gathering Room\, 204 Monument Road\, Orleans\, MA\, 02653\, United States
GEO:41.7656197;-69.9845821
X-APPLE-STRUCTURED-LOCATION;VALUE=URI;X-ADDRESS=Gathering Room 204 Monument Road Orleans MA 02653 United States;X-APPLE-RADIUS=500;X-TITLE=204 Monument Road:geo:-69.9845821,41.7656197
END:VEVENT
BEGIN:VEVENT
DTSTART;TZID=America/New_York:20250406T111500
DTEND;TZID=America/New_York:20250406T124500
DTSTAMP:20260420T043852
CREATED:20241205T161135Z
LAST-MODIFIED:20250519T154338Z
UID:10030310-1743938100-1743943500@holyspiritorleans.org
SUMMARY:Book Discussion Group (FR)
DESCRIPTION:The Book Discussion Group will meet in the Fireplace Room starting at 11:15 p.m. today.
URL:https://holyspiritorleans.org/event/book-discussion-group-fr/2025-04-06/
LOCATION:Fireplace Room\, 204 Monument Road\, Orleans\, MA\, 02653\, United States
GEO:41.7656197;-69.9845821
X-APPLE-STRUCTURED-LOCATION;VALUE=URI;X-ADDRESS=Fireplace Room 204 Monument Road Orleans MA 02653 United States;X-APPLE-RADIUS=500;X-TITLE=204 Monument Road:geo:-69.9845821,41.7656197
END:VEVENT
BEGIN:VEVENT
DTSTART;TZID=America/New_York:20250406T100000
DTEND;TZID=America/New_York:20250406T111500
DTSTAMP:20260420T043852
CREATED:20241125T191411Z
LAST-MODIFIED:20241125T191411Z
UID:10029612-1743933600-1743938100@holyspiritorleans.org
SUMMARY:Holy Eucharist (Ch/LS)
DESCRIPTION:A service of Holy Eucharist will be held in the Church and via Live Stream starting at 10:00 a.m. today.
URL:https://holyspiritorleans.org/event/holy-eucharist-ch-ls-2/2025-04-06/
LOCATION:Church\, Select a Country:
END:VEVENT
BEGIN:VEVENT
DTSTART;TZID=America/New_York:20250406T094500
DTEND;TZID=America/New_York:20250406T111500
DTSTAMP:20260420T043852
CREATED:20240718T170258Z
LAST-MODIFIED:20241216T190830Z
UID:10029344-1743932700-1743938100@holyspiritorleans.org
SUMMARY:Church School/Nursery Care (PHLL)
DESCRIPTION:Church School and Nursery Care will take place in the Parish Hall\, Lower Level starting at 9:45 a.m. today.
URL:https://holyspiritorleans.org/event/church-school-nursery-care-phll/2025-04-06/
LOCATION:Lower Level Parish Hall
END:VEVENT
BEGIN:VEVENT
DTSTART;TZID=America/New_York:20250406T084500
DTEND;TZID=America/New_York:20250406T093000
DTSTAMP:20260420T043852
CREATED:20241125T191023Z
LAST-MODIFIED:20241205T162116Z
UID:10029560-1743929100-1743931800@holyspiritorleans.org
SUMMARY:Glimpse of the Gospel (FR/Z)
DESCRIPTION:Glimpse of the Gospel will be held in the Fireplace Room and via Zoom starting at 8:45 a.m.
URL:https://holyspiritorleans.org/event/glimpse-of-the-gospel-fr-2/2025-04-06/
LOCATION:Fireplace Room\, 204 Monument Road\, Orleans\, MA\, 02653\, United States
GEO:41.7656197;-69.9845821
X-APPLE-STRUCTURED-LOCATION;VALUE=URI;X-ADDRESS=Fireplace Room 204 Monument Road Orleans MA 02653 United States;X-APPLE-RADIUS=500;X-TITLE=204 Monument Road:geo:-69.9845821,41.7656197
END:VEVENT
BEGIN:VEVENT
DTSTART;TZID=America/New_York:20250405T090000
DTEND;TZID=America/New_York:20250405T130000
DTSTAMP:20260420T043852
CREATED:20250203T164828Z
LAST-MODIFIED:20250203T164828Z
UID:10030646-1743843600-1743858000@holyspiritorleans.org
SUMMARY:Lenten Quiet Day (PH/PK)
DESCRIPTION:There will be a Lenten Quiet Day in the Parish Hall starting at 9:00 a.m. today.
URL:https://holyspiritorleans.org/event/lenten-quiet-day-ph-pk/
LOCATION:Parish Hall & Kitchen\, MA\, United States
END:VEVENT
BEGIN:VEVENT
DTSTART;TZID=America/New_York:20250405T090000
DTEND;TZID=America/New_York:20250405T120000
DTSTAMP:20260420T043852
CREATED:20250310T182258Z
LAST-MODIFIED:20250310T182258Z
UID:10030714-1743843600-1743854400@holyspiritorleans.org
SUMMARY:Garden Party (Grounds)
DESCRIPTION:There will be a Garden Party on the Grounds starting at 9:00 a.m. today.
URL:https://holyspiritorleans.org/event/garden-party-grounds-2/
LOCATION:Grounds\, 204 Monument Road\, Orleans\, MA\, 02653\, United States
END:VEVENT
BEGIN:VEVENT
DTSTART;TZID=America/New_York:20250404T093000
DTEND;TZID=America/New_York:20250404T110000
DTSTAMP:20260420T043852
CREATED:20250128T184155Z
LAST-MODIFIED:20250519T144413Z
UID:10030624-1743759000-1743764400@holyspiritorleans.org
SUMMARY:Belladonnas Rehearsal (Ch/CR)
DESCRIPTION:Belladonnas will hold a rehearsal in the Choir Room and/or Church starting at 9:30 a.m. today.
URL:https://holyspiritorleans.org/event/belladonnas-rehearsal-ch-cr-2/2025-04-04/
LOCATION:Choir Room\, 204 Monument Road\, Orleans\, MA\, 02653\, United States
END:VEVENT
END:VCALENDAR