BEGIN:VCALENDAR
VERSION:2.0
PRODID:-//The Church of the Holy Spirit - ECPv6.15.17.1//NONSGML v1.0//EN
CALSCALE:GREGORIAN
METHOD:PUBLISH
X-WR-CALNAME:The Church of the Holy Spirit
X-ORIGINAL-URL:https://holyspiritorleans.org
X-WR-CALDESC:Events for The Church of the Holy Spirit
REFRESH-INTERVAL;VALUE=DURATION:PT1H
X-Robots-Tag:noindex
X-PUBLISHED-TTL:PT1H
BEGIN:VTIMEZONE
TZID:America/New_York
BEGIN:DAYLIGHT
TZOFFSETFROM:-0500
TZOFFSETTO:-0400
TZNAME:EDT
DTSTART:20230312T070000
END:DAYLIGHT
BEGIN:STANDARD
TZOFFSETFROM:-0400
TZOFFSETTO:-0500
TZNAME:EST
DTSTART:20231105T060000
END:STANDARD
BEGIN:DAYLIGHT
TZOFFSETFROM:-0500
TZOFFSETTO:-0400
TZNAME:EDT
DTSTART:20240310T070000
END:DAYLIGHT
BEGIN:STANDARD
TZOFFSETFROM:-0400
TZOFFSETTO:-0500
TZNAME:EST
DTSTART:20241103T060000
END:STANDARD
BEGIN:DAYLIGHT
TZOFFSETFROM:-0500
TZOFFSETTO:-0400
TZNAME:EDT
DTSTART:20250309T070000
END:DAYLIGHT
BEGIN:STANDARD
TZOFFSETFROM:-0400
TZOFFSETTO:-0500
TZNAME:EST
DTSTART:20251102T060000
END:STANDARD
END:VTIMEZONE
BEGIN:VEVENT
DTSTART;TZID=America/New_York:20240910T160000
DTEND;TZID=America/New_York:20240910T180000
DTSTAMP:20260423T045149
CREATED:20231204T170616Z
LAST-MODIFIED:20241210T150316Z
UID:10028847-1725984000-1725991200@holyspiritorleans.org
SUMMARY:F4K Steering Committee (Z)
DESCRIPTION:The Food For Kids Steering Committee will meet via Zoom starting at 4:00 p.m. today.
URL:https://holyspiritorleans.org/event/f4k-steering-committee-z-3/2024-09-10/
LOCATION:Zoom\, 204 Monument Road\, Orleans\, MA\, 02653\, United States
END:VEVENT
BEGIN:VEVENT
DTSTART;TZID=America/New_York:20240910T140000
DTEND;TZID=America/New_York:20240910T153000
DTSTAMP:20260423T045149
CREATED:20231106T184529Z
LAST-MODIFIED:20231106T184529Z
UID:10028432-1725976800-1725982200@holyspiritorleans.org
SUMMARY:Pastoral Care Givers (FR)
DESCRIPTION:There will be a meeting of the Pastoral Care Givers in the Fireplace Room starting at 2:00 p.m. today.
URL:https://holyspiritorleans.org/event/pastoral-care-givers-fr-2/2024-09-10/
LOCATION:Fireplace Room\, 204 Monument Road\, Orleans\, MA\, 02653\, United States
GEO:41.7656197;-69.9845821
X-APPLE-STRUCTURED-LOCATION;VALUE=URI;X-ADDRESS=Fireplace Room 204 Monument Road Orleans MA 02653 United States;X-APPLE-RADIUS=500;X-TITLE=204 Monument Road:geo:-69.9845821,41.7656197
END:VEVENT
BEGIN:VEVENT
DTSTART;TZID=America/New_York:20240909T130000
DTEND;TZID=America/New_York:20240909T143000
DTSTAMP:20260423T045149
CREATED:20240718T152903Z
LAST-MODIFIED:20240718T152903Z
UID:10029307-1725886800-1725892200@holyspiritorleans.org
SUMMARY:Sacred Ground (FR)
DESCRIPTION:The Sacred Ground Program will be held in the Fireplace Room starting at 1:00 p.m. today.
URL:https://holyspiritorleans.org/event/sacred-ground-fr/2024-09-09/
LOCATION:Fireplace Room\, 204 Monument Road\, Orleans\, MA\, 02653\, United States
GEO:41.7656197;-69.9845821
X-APPLE-STRUCTURED-LOCATION;VALUE=URI;X-ADDRESS=Fireplace Room 204 Monument Road Orleans MA 02653 United States;X-APPLE-RADIUS=500;X-TITLE=204 Monument Road:geo:-69.9845821,41.7656197
END:VEVENT
BEGIN:VEVENT
DTSTART;TZID=America/New_York:20240909T120000
DTEND;TZID=America/New_York:20240909T130000
DTSTAMP:20260423T045149
CREATED:20240903T151245Z
LAST-MODIFIED:20240903T151245Z
UID:10029400-1725883200-1725886800@holyspiritorleans.org
SUMMARY:Nominating Committee (RR)
DESCRIPTION:The Nominating Committee will meet in the Reception Room starting at Noon today.
URL:https://holyspiritorleans.org/event/nominating-committee-rr-4/
LOCATION:Reception Room\, 204 Monument Road\, Orleans\, MA\, 02653\, United States
END:VEVENT
BEGIN:VEVENT
DTSTART;TZID=America/New_York:20240909T100000
DTEND;TZID=America/New_York:20240909T140000
DTSTAMP:20260423T045149
CREATED:20231106T163055Z
LAST-MODIFIED:20240930T152418Z
UID:10028353-1725876000-1725890400@holyspiritorleans.org
SUMMARY:Kimball Guild (KH)
DESCRIPTION:The Kimball Guild will meet in the Kimball House starting at 10:00 a.m. today.
URL:https://holyspiritorleans.org/event/kimball-guild-kh/2024-09-09/
LOCATION:Kimball House\, 204 Monument Road\, Orleans\, MA\, 02653\, United States
END:VEVENT
BEGIN:VEVENT
DTSTART;TZID=America/New_York:20240909T100000
DTEND;TZID=America/New_York:20240909T130000
DTSTAMP:20260423T045149
CREATED:20231113T185932Z
LAST-MODIFIED:20240930T152720Z
UID:10028508-1725876000-1725886800@holyspiritorleans.org
SUMMARY:Free Shop (GR)
DESCRIPTION:The Free Shop will be open in the Gathering Room starting at 10:00 a.m. today.
URL:https://holyspiritorleans.org/event/free-shop-gr-3/2024-09-09/
LOCATION:Gathering Room\, 204 Monument Road\, Orleans\, MA\, 02653\, United States
GEO:41.7656197;-69.9845821
X-APPLE-STRUCTURED-LOCATION;VALUE=URI;X-ADDRESS=Gathering Room 204 Monument Road Orleans MA 02653 United States;X-APPLE-RADIUS=500;X-TITLE=204 Monument Road:geo:-69.9845821,41.7656197
END:VEVENT
BEGIN:VEVENT
DTSTART;TZID=America/New_York:20240908T114500
DTEND;TZID=America/New_York:20240908T131500
DTSTAMP:20260423T045149
CREATED:20240717T181215Z
LAST-MODIFIED:20240916T144040Z
UID:10029296-1725795900-1725801300@holyspiritorleans.org
SUMMARY:Sacred Ground (FR/RR)
DESCRIPTION:The Sacred Ground Program will be held in the Fireplace Room and Reception Room today starting at 11:45 a.m.
URL:https://holyspiritorleans.org/event/sacred-ground-fr-rr/2024-09-08/
LOCATION:Fireplace Room/Reception Rom
END:VEVENT
BEGIN:VEVENT
DTSTART;TZID=America/New_York:20240908T113000
DTEND;TZID=America/New_York:20240908T133000
DTSTAMP:20260423T045149
CREATED:20240826T173028Z
LAST-MODIFIED:20240826T173028Z
UID:10029389-1725795000-1725802200@holyspiritorleans.org
SUMMARY:Parish Picnic (Grounds/PH)
DESCRIPTION:A Parish Picnic will be held starting at 11:30 a.m. on the Grounds (Weather Permitting) or in the Parish Hall.
URL:https://holyspiritorleans.org/event/parish-picnic-grounds-ph/
LOCATION:Grounds or Parish Hall
END:VEVENT
BEGIN:VEVENT
DTSTART;TZID=America/New_York:20240908T100000
DTEND;TZID=America/New_York:20240908T111500
DTSTAMP:20260423T045149
CREATED:20231023T181613Z
LAST-MODIFIED:20240108T154550Z
UID:10028130-1725789600-1725794100@holyspiritorleans.org
SUMMARY:Holy Eucharist (Ch/LS)
DESCRIPTION:A Holy Eucharist service will be held in the Church\, available also by Live Stream\, starting at 10:00 a.m. today.
URL:https://holyspiritorleans.org/event/holy-eucharist-ch-2/2024-09-08/
LOCATION:Church\, Select a Country:
END:VEVENT
BEGIN:VEVENT
DTSTART;TZID=America/New_York:20240908T084500
DTEND;TZID=America/New_York:20240908T094500
DTSTAMP:20260423T045149
CREATED:20231127T155505Z
LAST-MODIFIED:20231127T155505Z
UID:10028600-1725785100-1725788700@holyspiritorleans.org
SUMMARY:Glimpse of the Gospel (FR)
DESCRIPTION:Glimpse of the Gospel will take place in the Fireplace Room starting at 8:45 a.m. today.
URL:https://holyspiritorleans.org/event/glimpse-of-the-gospel-fr/2024-09-08/
LOCATION:Fireplace Room\, 204 Monument Road\, Orleans\, MA\, 02653\, United States
GEO:41.7656197;-69.9845821
X-APPLE-STRUCTURED-LOCATION;VALUE=URI;X-ADDRESS=Fireplace Room 204 Monument Road Orleans MA 02653 United States;X-APPLE-RADIUS=500;X-TITLE=204 Monument Road:geo:-69.9845821,41.7656197
END:VEVENT
BEGIN:VEVENT
DTSTART;TZID=America/New_York:20240907T083000
DTEND;TZID=America/New_York:20240907T120000
DTSTAMP:20260423T045149
CREATED:20240708T144416Z
LAST-MODIFIED:20240708T144416Z
UID:10029267-1725697800-1725710400@holyspiritorleans.org
SUMMARY:Garden Party (Grounds)
DESCRIPTION:There will be a Garden Party on the Grounds starting at 8:30 a.m. today.
URL:https://holyspiritorleans.org/event/garden-party-grounds/2024-09-07/
LOCATION:Grounds\, 204 Monument Road\, Orleans\, MA\, 02653\, United States
END:VEVENT
BEGIN:VEVENT
DTSTART;TZID=America/New_York:20240905T163000
DTEND;TZID=America/New_York:20240905T180000
DTSTAMP:20260423T045149
CREATED:20240715T170019Z
LAST-MODIFIED:20240930T160932Z
UID:10028930-1725553800-1725559200@holyspiritorleans.org
SUMMARY:Building & Grounds Cte. (FR)
DESCRIPTION:The Building & Grounds Committee will meet today starting at 4:30 p.m. in the Fireplace Room.
URL:https://holyspiritorleans.org/event/building-grounds-cte-fr-2-2/2024-09-05/
LOCATION:Fireplace Room\, 204 Monument Road\, Orleans\, MA\, 02653\, United States
ORGANIZER;CN="Church of the Holy Spirit":MAILTO:holyspiritorleansadmin@verizon.net
GEO:41.7656197;-69.9845821
X-APPLE-STRUCTURED-LOCATION;VALUE=URI;X-ADDRESS=Fireplace Room 204 Monument Road Orleans MA 02653 United States;X-APPLE-RADIUS=500;X-TITLE=204 Monument Road:geo:-69.9845821,41.7656197
END:VEVENT
BEGIN:VEVENT
DTSTART;TZID=America/New_York:20240905T163000
DTEND;TZID=America/New_York:20240905T173000
DTSTAMP:20260423T045149
CREATED:20240312T142704Z
LAST-MODIFIED:20240722T172201Z
UID:10029094-1725553800-1725557400@holyspiritorleans.org
SUMMARY:Centering Prayer (RR/MG)
DESCRIPTION:Centering Prayer will be held in the Reception Room starting at 4:30 p.m. today.
URL:https://holyspiritorleans.org/event/centering-prayer-rr-mg-2-2/2024-09-05/
LOCATION:Reception Room\, 204 Monument Road\, Orleans\, MA\, 02653\, United States
END:VEVENT
BEGIN:VEVENT
DTSTART;TZID=America/New_York:20240905T133000
DTEND;TZID=America/New_York:20240905T150000
DTSTAMP:20260423T045149
CREATED:20240903T145314Z
LAST-MODIFIED:20240903T145314Z
UID:10029390-1725543000-1725548400@holyspiritorleans.org
SUMMARY:Outreach Committee (FR)
DESCRIPTION:The Outreach Committee will meet in the Fireplace Room starting at 1:30 p.m. today.
URL:https://holyspiritorleans.org/event/outreach-committee-fr/2024-09-05/
LOCATION:Fireplace Room\, 204 Monument Road\, Orleans\, MA\, 02653\, United States
GEO:41.7656197;-69.9845821
X-APPLE-STRUCTURED-LOCATION;VALUE=URI;X-ADDRESS=Fireplace Room 204 Monument Road Orleans MA 02653 United States;X-APPLE-RADIUS=500;X-TITLE=204 Monument Road:geo:-69.9845821,41.7656197
END:VEVENT
BEGIN:VEVENT
DTSTART;TZID=America/New_York:20240905T113000
DTEND;TZID=America/New_York:20240905T140000
DTSTAMP:20260423T045149
CREATED:20240610T183806Z
LAST-MODIFIED:20240610T183806Z
UID:10029258-1725535800-1725544800@holyspiritorleans.org
SUMMARY:Ladies Lunch (PH)
DESCRIPTION:Ladies Lunch will be held in the Parish Hall starting at 11:30 a.m. today.
URL:https://holyspiritorleans.org/event/ladies-lunch-ph/2024-09-05/
LOCATION:Parish Hall\, 204 Monument Road\, Orleans\, MA\, 02653\, United States
GEO:41.7656197;-69.9845821
X-APPLE-STRUCTURED-LOCATION;VALUE=URI;X-ADDRESS=Parish Hall 204 Monument Road Orleans MA 02653 United States;X-APPLE-RADIUS=500;X-TITLE=204 Monument Road:geo:-69.9845821,41.7656197
END:VEVENT
BEGIN:VEVENT
DTSTART;TZID=America/New_York:20240905T110000
DTEND;TZID=America/New_York:20240905T113000
DTSTAMP:20260423T045149
CREATED:20240318T165156Z
LAST-MODIFIED:20241204T151028Z
UID:10028235-1725534000-1725535800@holyspiritorleans.org
SUMMARY:Holy Eucharist & Prayers for Healing (Ch)
DESCRIPTION:There will be a Holy Eucharist service with Prayers for Healing starting at 11:00 a.m. today.
URL:https://holyspiritorleans.org/event/holy-eucharist-prayers-for-healing-ch-5-2/2024-09-05/
LOCATION:Church\, Select a Country:
END:VEVENT
BEGIN:VEVENT
DTSTART;TZID=America/New_York:20240904T100000
DTEND;TZID=America/New_York:20240904T130000
DTSTAMP:20260423T045149
CREATED:20240610T174309Z
LAST-MODIFIED:20240610T174309Z
UID:10029257-1725444000-1725454800@holyspiritorleans.org
SUMMARY:Free Shop (PH)
DESCRIPTION:Free Shop will be open in the Parish Hall starting at 10:00 a.m. today.
URL:https://holyspiritorleans.org/event/free-shop-ph-2/2024-09-04/
LOCATION:Parish Hall\, 204 Monument Road\, Orleans\, MA\, 02653\, United States
GEO:41.7656197;-69.9845821
X-APPLE-STRUCTURED-LOCATION;VALUE=URI;X-ADDRESS=Parish Hall 204 Monument Road Orleans MA 02653 United States;X-APPLE-RADIUS=500;X-TITLE=204 Monument Road:geo:-69.9845821,41.7656197
END:VEVENT
BEGIN:VEVENT
DTSTART;TZID=America/New_York:20240904T093000
DTEND;TZID=America/New_York:20240904T110000
DTSTAMP:20260423T045149
CREATED:20240603T182902Z
LAST-MODIFIED:20240603T182902Z
UID:10029221-1725442200-1725447600@holyspiritorleans.org
SUMMARY:Officers Meeting (FR)
DESCRIPTION:There will be an Officers Meeting starting at 9:30 a.m. today in the Fireplace Room.
URL:https://holyspiritorleans.org/event/officers-meeting-fr-2/2024-09-04/
LOCATION:Fireplace Room\, 204 Monument Road\, Orleans\, MA\, 02653\, United States
GEO:41.7656197;-69.9845821
X-APPLE-STRUCTURED-LOCATION;VALUE=URI;X-ADDRESS=Fireplace Room 204 Monument Road Orleans MA 02653 United States;X-APPLE-RADIUS=500;X-TITLE=204 Monument Road:geo:-69.9845821,41.7656197
END:VEVENT
BEGIN:VEVENT
DTSTART;TZID=America/New_York:20240903T130000
DTEND;TZID=America/New_York:20240903T143000
DTSTAMP:20260423T045149
CREATED:20240812T144348Z
LAST-MODIFIED:20240812T144547Z
UID:10029384-1725368400-1725373800@holyspiritorleans.org
SUMMARY:Holiday Bazaar Team Meeting (FR)
DESCRIPTION:There will be an all team meeting for the Holiday Bazaar in the Fireplace Room starting at 1:00 p.m. this afternoon.
URL:https://holyspiritorleans.org/event/holiday-bazaar-fr-4/
LOCATION:Fireplace Room\, 204 Monument Road\, Orleans\, MA\, 02653\, United States
GEO:41.7656197;-69.9845821
X-APPLE-STRUCTURED-LOCATION;VALUE=URI;X-ADDRESS=Fireplace Room 204 Monument Road Orleans MA 02653 United States;X-APPLE-RADIUS=500;X-TITLE=204 Monument Road:geo:-69.9845821,41.7656197
END:VEVENT
BEGIN:VEVENT
DTSTART;VALUE=DATE:20240902
DTEND;VALUE=DATE:20240903
DTSTAMP:20260423T045149
CREATED:20240603T161314Z
LAST-MODIFIED:20240603T161336Z
UID:10029200-1725235200-1725321599@holyspiritorleans.org
SUMMARY:Campus Closed
DESCRIPTION:
URL:https://holyspiritorleans.org/event/labor-day/
LOCATION:MA
ORGANIZER;CN="Church of the Holy Spirit":MAILTO:holyspiritorleansadmin@verizon.net
END:VEVENT
BEGIN:VEVENT
DTSTART;TZID=America/New_York:20240901T100000
DTEND;TZID=America/New_York:20240901T111500
DTSTAMP:20260423T045149
CREATED:20231023T181613Z
LAST-MODIFIED:20240108T154550Z
UID:10028129-1725184800-1725189300@holyspiritorleans.org
SUMMARY:Holy Eucharist (Ch/LS)
DESCRIPTION:A Holy Eucharist service will be held in the Church\, available also by Live Stream\, starting at 10:00 a.m. today.
URL:https://holyspiritorleans.org/event/holy-eucharist-ch-2/2024-09-01/
LOCATION:Church\, Select a Country:
END:VEVENT
BEGIN:VEVENT
DTSTART;TZID=America/New_York:20240901T084500
DTEND;TZID=America/New_York:20240901T094500
DTSTAMP:20260423T045149
CREATED:20231127T155505Z
LAST-MODIFIED:20231127T155505Z
UID:10028599-1725180300-1725183900@holyspiritorleans.org
SUMMARY:Glimpse of the Gospel (FR)
DESCRIPTION:Glimpse of the Gospel will take place in the Fireplace Room starting at 8:45 a.m. today.
URL:https://holyspiritorleans.org/event/glimpse-of-the-gospel-fr/2024-09-01/
LOCATION:Fireplace Room\, 204 Monument Road\, Orleans\, MA\, 02653\, United States
GEO:41.7656197;-69.9845821
X-APPLE-STRUCTURED-LOCATION;VALUE=URI;X-ADDRESS=Fireplace Room 204 Monument Road Orleans MA 02653 United States;X-APPLE-RADIUS=500;X-TITLE=204 Monument Road:geo:-69.9845821,41.7656197
END:VEVENT
BEGIN:VEVENT
DTSTART;TZID=America/New_York:20240829T163000
DTEND;TZID=America/New_York:20240829T173000
DTSTAMP:20260423T045149
CREATED:20240312T142704Z
LAST-MODIFIED:20240722T172201Z
UID:10029093-1724949000-1724952600@holyspiritorleans.org
SUMMARY:Centering Prayer (RR/MG)
DESCRIPTION:Centering Prayer will be held in the Reception Room starting at 4:30 p.m. today.
URL:https://holyspiritorleans.org/event/centering-prayer-rr-mg-2-2/2024-08-29/
LOCATION:Reception Room\, 204 Monument Road\, Orleans\, MA\, 02653\, United States
END:VEVENT
BEGIN:VEVENT
DTSTART;TZID=America/New_York:20240829T110000
DTEND;TZID=America/New_York:20240829T113000
DTSTAMP:20260423T045149
CREATED:20240318T165156Z
LAST-MODIFIED:20241204T151028Z
UID:10028234-1724929200-1724931000@holyspiritorleans.org
SUMMARY:Holy Eucharist & Prayers for Healing (Ch)
DESCRIPTION:There will be a Holy Eucharist service with Prayers for Healing starting at 11:00 a.m. today.
URL:https://holyspiritorleans.org/event/holy-eucharist-prayers-for-healing-ch-5-2/2024-08-29/
LOCATION:Church\, Select a Country:
END:VEVENT
BEGIN:VEVENT
DTSTART;TZID=America/New_York:20240828T150000
DTEND;TZID=America/New_York:20240828T170000
DTSTAMP:20260423T045149
CREATED:20240520T181624Z
LAST-MODIFIED:20240520T181624Z
UID:10029181-1724857200-1724864400@holyspiritorleans.org
SUMMARY:GWAG Opening Reception (Lawn)
DESCRIPTION:GWAG will hold an Opening Day Reception on the lawn in front of GWAG starting at 3:00 p.m. today.
URL:https://holyspiritorleans.org/event/gwag-opening-reception-lawn/
LOCATION:Lawn in front of GWAG\, 204 Monument Road\, Orleans\, MA\, 02653\, United States
END:VEVENT
BEGIN:VEVENT
DTSTART;TZID=America/New_York:20240828T100000
DTEND;TZID=America/New_York:20240828T130000
DTSTAMP:20260423T045149
CREATED:20240610T174309Z
LAST-MODIFIED:20240610T174309Z
UID:10029256-1724839200-1724850000@holyspiritorleans.org
SUMMARY:Free Shop (PH)
DESCRIPTION:Free Shop will be open in the Parish Hall starting at 10:00 a.m. today.
URL:https://holyspiritorleans.org/event/free-shop-ph-2/2024-08-28/
LOCATION:Parish Hall\, 204 Monument Road\, Orleans\, MA\, 02653\, United States
GEO:41.7656197;-69.9845821
X-APPLE-STRUCTURED-LOCATION;VALUE=URI;X-ADDRESS=Parish Hall 204 Monument Road Orleans MA 02653 United States;X-APPLE-RADIUS=500;X-TITLE=204 Monument Road:geo:-69.9845821,41.7656197
END:VEVENT
BEGIN:VEVENT
DTSTART;TZID=America/New_York:20240828T093000
DTEND;TZID=America/New_York:20240828T110000
DTSTAMP:20260423T045149
CREATED:20240603T182902Z
LAST-MODIFIED:20240603T182902Z
UID:10029220-1724837400-1724842800@holyspiritorleans.org
SUMMARY:Officers Meeting (FR)
DESCRIPTION:There will be an Officers Meeting starting at 9:30 a.m. today in the Fireplace Room.
URL:https://holyspiritorleans.org/event/officers-meeting-fr-2/2024-08-28/
LOCATION:Fireplace Room\, 204 Monument Road\, Orleans\, MA\, 02653\, United States
GEO:41.7656197;-69.9845821
X-APPLE-STRUCTURED-LOCATION;VALUE=URI;X-ADDRESS=Fireplace Room 204 Monument Road Orleans MA 02653 United States;X-APPLE-RADIUS=500;X-TITLE=204 Monument Road:geo:-69.9845821,41.7656197
END:VEVENT
BEGIN:VEVENT
DTSTART;TZID=America/New_York:20240828T063000
DTEND;TZID=America/New_York:20240828T150000
DTSTAMP:20260423T045149
CREATED:20240311T163800Z
LAST-MODIFIED:20240311T163800Z
UID:10029069-1724826600-1724857200@holyspiritorleans.org
SUMMARY:F4K Take Down (PK/LL)
DESCRIPTION:Food for Kids Program take down will take place today starting at 6:30 a.m. in the Parish Kitchen and Lower Level of the Parish Hall.
URL:https://holyspiritorleans.org/event/f4k-take-down-pk-ll/2024-08-28/
LOCATION:Parish Kitchen/Lower Level PH\, 204 Monument Road\, Orleans\, 02653\, United States
GEO:41.7656197;-69.9845821
X-APPLE-STRUCTURED-LOCATION;VALUE=URI;X-ADDRESS=Parish Kitchen/Lower Level PH 204 Monument Road Orleans 02653 United States;X-APPLE-RADIUS=500;X-TITLE=204 Monument Road:geo:-69.9845821,41.7656197
END:VEVENT
BEGIN:VEVENT
DTSTART;TZID=America/New_York:20240827T063000
DTEND;TZID=America/New_York:20240827T150000
DTSTAMP:20260423T045149
CREATED:20240311T163800Z
LAST-MODIFIED:20240311T163800Z
UID:10029068-1724740200-1724770800@holyspiritorleans.org
SUMMARY:F4K Take Down (PK/LL)
DESCRIPTION:Food for Kids Program take down will take place today starting at 6:30 a.m. in the Parish Kitchen and Lower Level of the Parish Hall.
URL:https://holyspiritorleans.org/event/f4k-take-down-pk-ll/2024-08-27/
LOCATION:Parish Kitchen/Lower Level PH\, 204 Monument Road\, Orleans\, 02653\, United States
GEO:41.7656197;-69.9845821
X-APPLE-STRUCTURED-LOCATION;VALUE=URI;X-ADDRESS=Parish Kitchen/Lower Level PH 204 Monument Road Orleans 02653 United States;X-APPLE-RADIUS=500;X-TITLE=204 Monument Road:geo:-69.9845821,41.7656197
END:VEVENT
BEGIN:VEVENT
DTSTART;TZID=America/New_York:20240826T100000
DTEND;TZID=America/New_York:20240826T140000
DTSTAMP:20260423T045149
CREATED:20231106T163055Z
LAST-MODIFIED:20240930T152418Z
UID:10028351-1724666400-1724680800@holyspiritorleans.org
SUMMARY:Kimball Guild (KH)
DESCRIPTION:The Kimball Guild will meet in the Kimball House starting at 10:00 a.m. today.
URL:https://holyspiritorleans.org/event/kimball-guild-kh/2024-08-26/
LOCATION:Kimball House\, 204 Monument Road\, Orleans\, MA\, 02653\, United States
END:VEVENT
END:VCALENDAR