BEGIN:VCALENDAR
VERSION:2.0
PRODID:-//The Church of the Holy Spirit - ECPv6.15.17.1//NONSGML v1.0//EN
CALSCALE:GREGORIAN
METHOD:PUBLISH
X-ORIGINAL-URL:https://holyspiritorleans.org
X-WR-CALDESC:Events for The Church of the Holy Spirit
REFRESH-INTERVAL;VALUE=DURATION:PT1H
X-Robots-Tag:noindex
X-PUBLISHED-TTL:PT1H
BEGIN:VTIMEZONE
TZID:America/New_York
BEGIN:DAYLIGHT
TZOFFSETFROM:-0500
TZOFFSETTO:-0400
TZNAME:EDT
DTSTART:20230312T070000
END:DAYLIGHT
BEGIN:STANDARD
TZOFFSETFROM:-0400
TZOFFSETTO:-0500
TZNAME:EST
DTSTART:20231105T060000
END:STANDARD
BEGIN:DAYLIGHT
TZOFFSETFROM:-0500
TZOFFSETTO:-0400
TZNAME:EDT
DTSTART:20240310T070000
END:DAYLIGHT
BEGIN:STANDARD
TZOFFSETFROM:-0400
TZOFFSETTO:-0500
TZNAME:EST
DTSTART:20241103T060000
END:STANDARD
BEGIN:DAYLIGHT
TZOFFSETFROM:-0500
TZOFFSETTO:-0400
TZNAME:EDT
DTSTART:20250309T070000
END:DAYLIGHT
BEGIN:STANDARD
TZOFFSETFROM:-0400
TZOFFSETTO:-0500
TZNAME:EST
DTSTART:20251102T060000
END:STANDARD
END:VTIMEZONE
BEGIN:VEVENT
DTSTART;TZID=America/New_York:20241205T110000
DTEND;TZID=America/New_York:20241205T113000
DTSTAMP:20260420T122431
CREATED:20240318T165156Z
LAST-MODIFIED:20241204T151028Z
UID:10028248-1733396400-1733398200@holyspiritorleans.org
SUMMARY:Holy Eucharist & Prayers for Healing (Ch)
DESCRIPTION:There will be a Holy Eucharist service with Prayers for Healing starting at 11:00 a.m. today.
URL:https://holyspiritorleans.org/event/holy-eucharist-prayers-for-healing-ch-5-2/2024-12-05/
LOCATION:Church\, Select a Country:
END:VEVENT
BEGIN:VEVENT
DTSTART;TZID=America/New_York:20241205T113000
DTEND;TZID=America/New_York:20241205T140000
DTSTAMP:20260420T122431
CREATED:20240610T183806Z
LAST-MODIFIED:20240610T183806Z
UID:10029261-1733398200-1733407200@holyspiritorleans.org
SUMMARY:Ladies Lunch (PH)
DESCRIPTION:Ladies Lunch will be held in the Parish Hall starting at 11:30 a.m. today.
URL:https://holyspiritorleans.org/event/ladies-lunch-ph/2024-12-05/
LOCATION:Parish Hall\, 204 Monument Road\, Orleans\, MA\, 02653\, United States
GEO:41.7656197;-69.9845821
X-APPLE-STRUCTURED-LOCATION;VALUE=URI;X-ADDRESS=Parish Hall 204 Monument Road Orleans MA 02653 United States;X-APPLE-RADIUS=500;X-TITLE=204 Monument Road:geo:-69.9845821,41.7656197
END:VEVENT
BEGIN:VEVENT
DTSTART;TZID=America/New_York:20241205T133000
DTEND;TZID=America/New_York:20241205T150000
DTSTAMP:20260420T122431
CREATED:20240903T145314Z
LAST-MODIFIED:20240903T145314Z
UID:10029393-1733405400-1733410800@holyspiritorleans.org
SUMMARY:Outreach Committee (FR)
DESCRIPTION:The Outreach Committee will meet in the Fireplace Room starting at 1:30 p.m. today.
URL:https://holyspiritorleans.org/event/outreach-committee-fr/2024-12-05/
LOCATION:Fireplace Room\, 204 Monument Road\, Orleans\, MA\, 02653\, United States
GEO:41.7656197;-69.9845821
X-APPLE-STRUCTURED-LOCATION;VALUE=URI;X-ADDRESS=Fireplace Room 204 Monument Road Orleans MA 02653 United States;X-APPLE-RADIUS=500;X-TITLE=204 Monument Road:geo:-69.9845821,41.7656197
END:VEVENT
BEGIN:VEVENT
DTSTART;TZID=America/New_York:20241205T150000
DTEND;TZID=America/New_York:20241205T160000
DTSTAMP:20260420T122431
CREATED:20240930T160015Z
LAST-MODIFIED:20241204T151549Z
UID:10029487-1733410800-1733414400@holyspiritorleans.org
SUMMARY:Centering Prayer (RR/MG)
DESCRIPTION:Centering Prayer will be held in the Reception Room starting at 3:00 p.m. today.
URL:https://holyspiritorleans.org/event/centering-prayer-rr-mg-4/2024-12-05/
LOCATION:Reception Room\, 204 Monument Road\, Orleans\, MA\, 02653\, United States
END:VEVENT
BEGIN:VEVENT
DTSTART;TZID=America/New_York:20241205T163000
DTEND;TZID=America/New_York:20241205T180000
DTSTAMP:20260420T122431
CREATED:20240715T170019Z
LAST-MODIFIED:20240930T160932Z
UID:10028933-1733416200-1733421600@holyspiritorleans.org
SUMMARY:Building & Grounds Cte. (FR)
DESCRIPTION:The Building & Grounds Committee will meet today starting at 4:30 p.m. in the Fireplace Room.
URL:https://holyspiritorleans.org/event/building-grounds-cte-fr-2-2/2024-12-05/
LOCATION:Fireplace Room\, 204 Monument Road\, Orleans\, MA\, 02653\, United States
ORGANIZER;CN="Church of the Holy Spirit":MAILTO:holyspiritorleansadmin@verizon.net
GEO:41.7656197;-69.9845821
X-APPLE-STRUCTURED-LOCATION;VALUE=URI;X-ADDRESS=Fireplace Room 204 Monument Road Orleans MA 02653 United States;X-APPLE-RADIUS=500;X-TITLE=204 Monument Road:geo:-69.9845821,41.7656197
END:VEVENT
BEGIN:VEVENT
DTSTART;TZID=America/New_York:20241206T093000
DTEND;TZID=America/New_York:20241206T103000
DTSTAMP:20260420T122431
CREATED:20240909T152427Z
LAST-MODIFIED:20240909T152427Z
UID:10029434-1733477400-1733481000@holyspiritorleans.org
SUMMARY:Belladonnas Rehearsal (CR)
DESCRIPTION:The Belladonnas will rehearse in the Choir Room starting at 9:30 a.m. today.
URL:https://holyspiritorleans.org/event/belladonnas-rehearsal-cr-3/2024-12-06/
LOCATION:Choir Room\, 204 Monument Road\, Orleans\, MA\, 02653\, United States
END:VEVENT
BEGIN:VEVENT
DTSTART;TZID=America/New_York:20241206T160000
DTEND;TZID=America/New_York:20241206T200000
DTSTAMP:20260420T122431
CREATED:20241125T181433Z
LAST-MODIFIED:20241125T181433Z
UID:10029542-1733500800-1733515200@holyspiritorleans.org
SUMMARY:Day of Little Candles Celebration (PH/PK)
DESCRIPTION:A Day of Little Candles celebration will be held in the Parish Hall and Parish Kitchen this evening from 5:30 to 7:30 p.m.
URL:https://holyspiritorleans.org/event/day-of-little-candles-celebration-ph-pk/
LOCATION:Parish Hall & Kitchen\, MA\, United States
ORGANIZER;CN="Church of the Holy Spirit":MAILTO:holyspiritorleansadmin@verizon.net
END:VEVENT
BEGIN:VEVENT
DTSTART;TZID=America/New_York:20241208T084500
DTEND;TZID=America/New_York:20241208T094500
DTSTAMP:20260420T122431
CREATED:20231127T155505Z
LAST-MODIFIED:20231127T155505Z
UID:10028613-1733647500-1733651100@holyspiritorleans.org
SUMMARY:Glimpse of the Gospel (FR)
DESCRIPTION:Glimpse of the Gospel will take place in the Fireplace Room starting at 8:45 a.m. today.
URL:https://holyspiritorleans.org/event/glimpse-of-the-gospel-fr/2024-12-08/
LOCATION:Fireplace Room\, 204 Monument Road\, Orleans\, MA\, 02653\, United States
GEO:41.7656197;-69.9845821
X-APPLE-STRUCTURED-LOCATION;VALUE=URI;X-ADDRESS=Fireplace Room 204 Monument Road Orleans MA 02653 United States;X-APPLE-RADIUS=500;X-TITLE=204 Monument Road:geo:-69.9845821,41.7656197
END:VEVENT
BEGIN:VEVENT
DTSTART;TZID=America/New_York:20241208T094500
DTEND;TZID=America/New_York:20241208T111500
DTSTAMP:20260420T122431
CREATED:20240718T170258Z
LAST-MODIFIED:20241216T190830Z
UID:10029327-1733651100-1733656500@holyspiritorleans.org
SUMMARY:Church School/Nursery Care (PHLL)
DESCRIPTION:Church School and Nursery Care will take place in the Parish Hall\, Lower Level starting at 9:45 a.m. today.
URL:https://holyspiritorleans.org/event/church-school-nursery-care-phll/2024-12-08/
LOCATION:Lower Level Parish Hall
END:VEVENT
BEGIN:VEVENT
DTSTART;TZID=America/New_York:20241208T100000
DTEND;TZID=America/New_York:20241208T111500
DTSTAMP:20260420T122431
CREATED:20231023T181613Z
LAST-MODIFIED:20240108T154550Z
UID:10028143-1733652000-1733656500@holyspiritorleans.org
SUMMARY:Holy Eucharist (Ch/LS)
DESCRIPTION:A Holy Eucharist service will be held in the Church\, available also by Live Stream\, starting at 10:00 a.m. today.
URL:https://holyspiritorleans.org/event/holy-eucharist-ch-2/2024-12-08/
LOCATION:Church\, Select a Country:
END:VEVENT
BEGIN:VEVENT
DTSTART;TZID=America/New_York:20241208T114500
DTEND;TZID=America/New_York:20241208T131500
DTSTAMP:20260420T122431
CREATED:20240717T181215Z
LAST-MODIFIED:20240916T144040Z
UID:10029303-1733658300-1733663700@holyspiritorleans.org
SUMMARY:Sacred Ground (FR/RR)
DESCRIPTION:The Sacred Ground Program will be held in the Fireplace Room and Reception Room today starting at 11:45 a.m.
URL:https://holyspiritorleans.org/event/sacred-ground-fr-rr/2024-12-08/
LOCATION:Fireplace Room/Reception Rom
END:VEVENT
BEGIN:VEVENT
DTSTART;TZID=America/New_York:20241209T090000
DTEND;TZID=America/New_York:20241209T160000
DTSTAMP:20260420T122431
CREATED:20240805T165702Z
LAST-MODIFIED:20240805T165702Z
UID:10029376-1733734800-1733760000@holyspiritorleans.org
SUMMARY:Fresh Holiday Arrangements (PH)
DESCRIPTION:Fresh Holiday Arrangements set up will take place in the Parish Hall starting at 9:00 a.m. today.
URL:https://holyspiritorleans.org/event/fresh-holiday-arrangements-ph/2024-12-09/
LOCATION:Parish Hall\, 204 Monument Road\, Orleans\, MA\, 02653\, United States
GEO:41.7656197;-69.9845821
X-APPLE-STRUCTURED-LOCATION;VALUE=URI;X-ADDRESS=Parish Hall 204 Monument Road Orleans MA 02653 United States;X-APPLE-RADIUS=500;X-TITLE=204 Monument Road:geo:-69.9845821,41.7656197
END:VEVENT
BEGIN:VEVENT
DTSTART;TZID=America/New_York:20241209T100000
DTEND;TZID=America/New_York:20241209T130000
DTSTAMP:20260420T122431
CREATED:20231113T185932Z
LAST-MODIFIED:20240930T152720Z
UID:10028521-1733738400-1733749200@holyspiritorleans.org
SUMMARY:Free Shop (GR)
DESCRIPTION:The Free Shop will be open in the Gathering Room starting at 10:00 a.m. today.
URL:https://holyspiritorleans.org/event/free-shop-gr-3/2024-12-09/
LOCATION:Gathering Room\, 204 Monument Road\, Orleans\, MA\, 02653\, United States
GEO:41.7656197;-69.9845821
X-APPLE-STRUCTURED-LOCATION;VALUE=URI;X-ADDRESS=Gathering Room 204 Monument Road Orleans MA 02653 United States;X-APPLE-RADIUS=500;X-TITLE=204 Monument Road:geo:-69.9845821,41.7656197
END:VEVENT
BEGIN:VEVENT
DTSTART;TZID=America/New_York:20241209T100000
DTEND;TZID=America/New_York:20241209T140000
DTSTAMP:20260420T122431
CREATED:20231106T163055Z
LAST-MODIFIED:20240930T152418Z
UID:10028366-1733738400-1733752800@holyspiritorleans.org
SUMMARY:Kimball Guild (KH)
DESCRIPTION:The Kimball Guild will meet in the Kimball House starting at 10:00 a.m. today.
URL:https://holyspiritorleans.org/event/kimball-guild-kh/2024-12-09/
LOCATION:Kimball House\, 204 Monument Road\, Orleans\, MA\, 02653\, United States
END:VEVENT
BEGIN:VEVENT
DTSTART;TZID=America/New_York:20241209T130000
DTEND;TZID=America/New_York:20241209T143000
DTSTAMP:20260420T122431
CREATED:20240718T152903Z
LAST-MODIFIED:20240718T152903Z
UID:10029314-1733749200-1733754600@holyspiritorleans.org
SUMMARY:Sacred Ground (FR)
DESCRIPTION:The Sacred Ground Program will be held in the Fireplace Room starting at 1:00 p.m. today.
URL:https://holyspiritorleans.org/event/sacred-ground-fr/2024-12-09/
LOCATION:Fireplace Room\, 204 Monument Road\, Orleans\, MA\, 02653\, United States
GEO:41.7656197;-69.9845821
X-APPLE-STRUCTURED-LOCATION;VALUE=URI;X-ADDRESS=Fireplace Room 204 Monument Road Orleans MA 02653 United States;X-APPLE-RADIUS=500;X-TITLE=204 Monument Road:geo:-69.9845821,41.7656197
END:VEVENT
BEGIN:VEVENT
DTSTART;TZID=America/New_York:20241210T090000
DTEND;TZID=America/New_York:20241210T160000
DTSTAMP:20260420T122431
CREATED:20240805T165702Z
LAST-MODIFIED:20240805T165702Z
UID:10029377-1733821200-1733846400@holyspiritorleans.org
SUMMARY:Fresh Holiday Arrangements (PH)
DESCRIPTION:Fresh Holiday Arrangements set up will take place in the Parish Hall starting at 9:00 a.m. today.
URL:https://holyspiritorleans.org/event/fresh-holiday-arrangements-ph/2024-12-10/
LOCATION:Parish Hall\, 204 Monument Road\, Orleans\, MA\, 02653\, United States
GEO:41.7656197;-69.9845821
X-APPLE-STRUCTURED-LOCATION;VALUE=URI;X-ADDRESS=Parish Hall 204 Monument Road Orleans MA 02653 United States;X-APPLE-RADIUS=500;X-TITLE=204 Monument Road:geo:-69.9845821,41.7656197
END:VEVENT
BEGIN:VEVENT
DTSTART;TZID=America/New_York:20241210T140000
DTEND;TZID=America/New_York:20241210T153000
DTSTAMP:20260420T122431
CREATED:20231106T184529Z
LAST-MODIFIED:20231106T184529Z
UID:10028435-1733839200-1733844600@holyspiritorleans.org
SUMMARY:Pastoral Care Givers (FR)
DESCRIPTION:There will be a meeting of the Pastoral Care Givers in the Fireplace Room starting at 2:00 p.m. today.
URL:https://holyspiritorleans.org/event/pastoral-care-givers-fr-2/2024-12-10/
LOCATION:Fireplace Room\, 204 Monument Road\, Orleans\, MA\, 02653\, United States
GEO:41.7656197;-69.9845821
X-APPLE-STRUCTURED-LOCATION;VALUE=URI;X-ADDRESS=Fireplace Room 204 Monument Road Orleans MA 02653 United States;X-APPLE-RADIUS=500;X-TITLE=204 Monument Road:geo:-69.9845821,41.7656197
END:VEVENT
BEGIN:VEVENT
DTSTART;TZID=America/New_York:20241211T090000
DTEND;TZID=America/New_York:20241211T160000
DTSTAMP:20260420T122431
CREATED:20240805T165702Z
LAST-MODIFIED:20240805T165702Z
UID:10029378-1733907600-1733932800@holyspiritorleans.org
SUMMARY:Fresh Holiday Arrangements (PH)
DESCRIPTION:Fresh Holiday Arrangements set up will take place in the Parish Hall starting at 9:00 a.m. today.
URL:https://holyspiritorleans.org/event/fresh-holiday-arrangements-ph/2024-12-11/
LOCATION:Parish Hall\, 204 Monument Road\, Orleans\, MA\, 02653\, United States
GEO:41.7656197;-69.9845821
X-APPLE-STRUCTURED-LOCATION;VALUE=URI;X-ADDRESS=Parish Hall 204 Monument Road Orleans MA 02653 United States;X-APPLE-RADIUS=500;X-TITLE=204 Monument Road:geo:-69.9845821,41.7656197
END:VEVENT
BEGIN:VEVENT
DTSTART;TZID=America/New_York:20241211T093000
DTEND;TZID=America/New_York:20241211T110000
DTSTAMP:20260420T122431
CREATED:20240603T182902Z
LAST-MODIFIED:20240603T182902Z
UID:10029235-1733909400-1733914800@holyspiritorleans.org
SUMMARY:Officers Meeting (FR)
DESCRIPTION:There will be an Officers Meeting starting at 9:30 a.m. today in the Fireplace Room.
URL:https://holyspiritorleans.org/event/officers-meeting-fr-2/2024-12-11/
LOCATION:Fireplace Room\, 204 Monument Road\, Orleans\, MA\, 02653\, United States
GEO:41.7656197;-69.9845821
X-APPLE-STRUCTURED-LOCATION;VALUE=URI;X-ADDRESS=Fireplace Room 204 Monument Road Orleans MA 02653 United States;X-APPLE-RADIUS=500;X-TITLE=204 Monument Road:geo:-69.9845821,41.7656197
END:VEVENT
BEGIN:VEVENT
DTSTART;TZID=America/New_York:20241211T100000
DTEND;TZID=America/New_York:20241211T130000
DTSTAMP:20260420T122431
CREATED:20231113T191020Z
LAST-MODIFIED:20231113T191020Z
UID:10028537-1733911200-1733922000@holyspiritorleans.org
SUMMARY:Free Shop (GR)
DESCRIPTION:The Free Shop will be open in the Gathering Room starting at 10:00 a.m. today.
URL:https://holyspiritorleans.org/event/free-shop-gr-4/2024-12-11/
LOCATION:Gathering Room\, 204 Monument Road\, Orleans\, MA\, 02653\, United States
GEO:41.7656197;-69.9845821
X-APPLE-STRUCTURED-LOCATION;VALUE=URI;X-ADDRESS=Gathering Room 204 Monument Road Orleans MA 02653 United States;X-APPLE-RADIUS=500;X-TITLE=204 Monument Road:geo:-69.9845821,41.7656197
END:VEVENT
BEGIN:VEVENT
DTSTART;TZID=America/New_York:20241211T190000
DTEND;TZID=America/New_York:20241211T203000
DTSTAMP:20260420T122431
CREATED:20240909T152944Z
LAST-MODIFIED:20241210T150647Z
UID:10029448-1733943600-1733949000@holyspiritorleans.org
SUMMARY:Choir Rehearsal (Ch)
DESCRIPTION:There will be a Choir Rehearsal in the Church starting at 7:00 p.m. today.
URL:https://holyspiritorleans.org/event/choir-rehearsal-ch-4/2024-12-11/
LOCATION:Church\, Select a Country:
END:VEVENT
BEGIN:VEVENT
DTSTART;TZID=America/New_York:20241212T090000
DTEND;TZID=America/New_York:20241212T160000
DTSTAMP:20260420T122431
CREATED:20240805T165702Z
LAST-MODIFIED:20240805T165702Z
UID:10029379-1733994000-1734019200@holyspiritorleans.org
SUMMARY:Fresh Holiday Arrangements (PH)
DESCRIPTION:Fresh Holiday Arrangements set up will take place in the Parish Hall starting at 9:00 a.m. today.
URL:https://holyspiritorleans.org/event/fresh-holiday-arrangements-ph/2024-12-12/
LOCATION:Parish Hall\, 204 Monument Road\, Orleans\, MA\, 02653\, United States
GEO:41.7656197;-69.9845821
X-APPLE-STRUCTURED-LOCATION;VALUE=URI;X-ADDRESS=Parish Hall 204 Monument Road Orleans MA 02653 United States;X-APPLE-RADIUS=500;X-TITLE=204 Monument Road:geo:-69.9845821,41.7656197
END:VEVENT
BEGIN:VEVENT
DTSTART;TZID=America/New_York:20241212T100000
DTEND;TZID=America/New_York:20241212T150000
DTSTAMP:20260420T122431
CREATED:20240909T151816Z
LAST-MODIFIED:20240909T151816Z
UID:10029420-1733997600-1734015600@holyspiritorleans.org
SUMMARY:Sale Open to Public (PH)
DESCRIPTION:The Fresh Holiday Arrangements sale will be open to the public from 10:00 am to 3:00 p.m. today.
URL:https://holyspiritorleans.org/event/sale-open-to-public-ph/2024-12-12/
LOCATION:Parish Hall\, 204 Monument Road\, Orleans\, MA\, 02653\, United States
GEO:41.7656197;-69.9845821
X-APPLE-STRUCTURED-LOCATION;VALUE=URI;X-ADDRESS=Parish Hall 204 Monument Road Orleans MA 02653 United States;X-APPLE-RADIUS=500;X-TITLE=204 Monument Road:geo:-69.9845821,41.7656197
END:VEVENT
BEGIN:VEVENT
DTSTART;TZID=America/New_York:20241212T110000
DTEND;TZID=America/New_York:20241212T113000
DTSTAMP:20260420T122431
CREATED:20240318T165156Z
LAST-MODIFIED:20241204T151028Z
UID:10028249-1734001200-1734003000@holyspiritorleans.org
SUMMARY:Holy Eucharist & Prayers for Healing (Ch)
DESCRIPTION:There will be a Holy Eucharist service with Prayers for Healing starting at 11:00 a.m. today.
URL:https://holyspiritorleans.org/event/holy-eucharist-prayers-for-healing-ch-5-2/2024-12-12/
LOCATION:Church\, Select a Country:
END:VEVENT
BEGIN:VEVENT
DTSTART;TZID=America/New_York:20241212T143000
DTEND;TZID=America/New_York:20241212T160000
DTSTAMP:20260420T122431
CREATED:20240603T152624Z
LAST-MODIFIED:20240603T152624Z
UID:10028459-1734013800-1734019200@holyspiritorleans.org
SUMMARY:Finance Committee (FR)
DESCRIPTION:A meeting of the Finance Committee will be held in the Fireplace Room starting at 2:30 p.m. today
URL:https://holyspiritorleans.org/event/finance-committee-z-4-2/2024-12-12/
LOCATION:Fireplace Room\, 204 Monument Road\, Orleans\, MA\, 02653\, United States
GEO:41.7656197;-69.9845821
X-APPLE-STRUCTURED-LOCATION;VALUE=URI;X-ADDRESS=Fireplace Room 204 Monument Road Orleans MA 02653 United States;X-APPLE-RADIUS=500;X-TITLE=204 Monument Road:geo:-69.9845821,41.7656197
END:VEVENT
BEGIN:VEVENT
DTSTART;TZID=America/New_York:20241212T150000
DTEND;TZID=America/New_York:20241212T160000
DTSTAMP:20260420T122431
CREATED:20240930T160015Z
LAST-MODIFIED:20241204T151549Z
UID:10029488-1734015600-1734019200@holyspiritorleans.org
SUMMARY:Centering Prayer (RR/MG)
DESCRIPTION:Centering Prayer will be held in the Reception Room starting at 3:00 p.m. today.
URL:https://holyspiritorleans.org/event/centering-prayer-rr-mg-4/2024-12-12/
LOCATION:Reception Room\, 204 Monument Road\, Orleans\, MA\, 02653\, United States
END:VEVENT
BEGIN:VEVENT
DTSTART;TZID=America/New_York:20241213T090000
DTEND;TZID=America/New_York:20241213T160000
DTSTAMP:20260420T122431
CREATED:20240805T165702Z
LAST-MODIFIED:20240805T165702Z
UID:10029380-1734080400-1734105600@holyspiritorleans.org
SUMMARY:Fresh Holiday Arrangements (PH)
DESCRIPTION:Fresh Holiday Arrangements set up will take place in the Parish Hall starting at 9:00 a.m. today.
URL:https://holyspiritorleans.org/event/fresh-holiday-arrangements-ph/2024-12-13/
LOCATION:Parish Hall\, 204 Monument Road\, Orleans\, MA\, 02653\, United States
GEO:41.7656197;-69.9845821
X-APPLE-STRUCTURED-LOCATION;VALUE=URI;X-ADDRESS=Parish Hall 204 Monument Road Orleans MA 02653 United States;X-APPLE-RADIUS=500;X-TITLE=204 Monument Road:geo:-69.9845821,41.7656197
END:VEVENT
BEGIN:VEVENT
DTSTART;TZID=America/New_York:20241213T093000
DTEND;TZID=America/New_York:20241213T103000
DTSTAMP:20260420T122431
CREATED:20240909T152427Z
LAST-MODIFIED:20240909T152427Z
UID:10029435-1734082200-1734085800@holyspiritorleans.org
SUMMARY:Belladonnas Rehearsal (CR)
DESCRIPTION:The Belladonnas will rehearse in the Choir Room starting at 9:30 a.m. today.
URL:https://holyspiritorleans.org/event/belladonnas-rehearsal-cr-3/2024-12-13/
LOCATION:Choir Room\, 204 Monument Road\, Orleans\, MA\, 02653\, United States
END:VEVENT
BEGIN:VEVENT
DTSTART;TZID=America/New_York:20241213T100000
DTEND;TZID=America/New_York:20241213T150000
DTSTAMP:20260420T122431
CREATED:20240909T151816Z
LAST-MODIFIED:20240909T151816Z
UID:10029421-1734084000-1734102000@holyspiritorleans.org
SUMMARY:Sale Open to Public (PH)
DESCRIPTION:The Fresh Holiday Arrangements sale will be open to the public from 10:00 am to 3:00 p.m. today.
URL:https://holyspiritorleans.org/event/sale-open-to-public-ph/2024-12-13/
LOCATION:Parish Hall\, 204 Monument Road\, Orleans\, MA\, 02653\, United States
GEO:41.7656197;-69.9845821
X-APPLE-STRUCTURED-LOCATION;VALUE=URI;X-ADDRESS=Parish Hall 204 Monument Road Orleans MA 02653 United States;X-APPLE-RADIUS=500;X-TITLE=204 Monument Road:geo:-69.9845821,41.7656197
END:VEVENT
BEGIN:VEVENT
DTSTART;TZID=America/New_York:20241213T140000
DTEND;TZID=America/New_York:20241213T150000
DTSTAMP:20260420T122431
CREATED:20241125T181959Z
LAST-MODIFIED:20241125T181959Z
UID:10029544-1734098400-1734102000@holyspiritorleans.org
SUMMARY:Margaret Beaudry Funeral (Ch)
DESCRIPTION:A funeral service for Margaret Beaudry will be held in the Church starting at 2:00 p.m. today.
URL:https://holyspiritorleans.org/event/margaret-beaudry-funeral-ch/
LOCATION:Church\, Select a Country:
END:VEVENT
END:VCALENDAR