BEGIN:VCALENDAR
VERSION:2.0
PRODID:-//The Church of the Holy Spirit - ECPv6.15.17.1//NONSGML v1.0//EN
CALSCALE:GREGORIAN
METHOD:PUBLISH
X-WR-CALNAME:The Church of the Holy Spirit
X-ORIGINAL-URL:https://holyspiritorleans.org
X-WR-CALDESC:Events for The Church of the Holy Spirit
REFRESH-INTERVAL;VALUE=DURATION:PT1H
X-Robots-Tag:noindex
X-PUBLISHED-TTL:PT1H
BEGIN:VTIMEZONE
TZID:America/New_York
BEGIN:DAYLIGHT
TZOFFSETFROM:-0500
TZOFFSETTO:-0400
TZNAME:EDT
DTSTART:20240310T070000
END:DAYLIGHT
BEGIN:STANDARD
TZOFFSETFROM:-0400
TZOFFSETTO:-0500
TZNAME:EST
DTSTART:20241103T060000
END:STANDARD
BEGIN:DAYLIGHT
TZOFFSETFROM:-0500
TZOFFSETTO:-0400
TZNAME:EDT
DTSTART:20250309T070000
END:DAYLIGHT
BEGIN:STANDARD
TZOFFSETFROM:-0400
TZOFFSETTO:-0500
TZNAME:EST
DTSTART:20251102T060000
END:STANDARD
BEGIN:DAYLIGHT
TZOFFSETFROM:-0500
TZOFFSETTO:-0400
TZNAME:EDT
DTSTART:20260308T070000
END:DAYLIGHT
BEGIN:STANDARD
TZOFFSETFROM:-0400
TZOFFSETTO:-0500
TZNAME:EST
DTSTART:20261101T060000
END:STANDARD
END:VTIMEZONE
BEGIN:VEVENT
DTSTART;TZID=America/New_York:20250328T093000
DTEND;TZID=America/New_York:20250328T110000
DTSTAMP:20260422T093302
CREATED:20250128T184155Z
LAST-MODIFIED:20250519T144413Z
UID:10030623-1743154200-1743159600@holyspiritorleans.org
SUMMARY:Belladonnas Rehearsal (Ch/CR)
DESCRIPTION:Belladonnas will hold a rehearsal in the Choir Room and/or Church starting at 9:30 a.m. today.
URL:https://holyspiritorleans.org/event/belladonnas-rehearsal-ch-cr-2/2025-03-28/
LOCATION:Choir Room\, 204 Monument Road\, Orleans\, MA\, 02653\, United States
END:VEVENT
BEGIN:VEVENT
DTSTART;TZID=America/New_York:20250328T100000
DTEND;TZID=America/New_York:20250328T140000
DTSTAMP:20260422T093302
CREATED:20250317T153649Z
LAST-MODIFIED:20250317T153649Z
UID:10030720-1743156000-1743170400@holyspiritorleans.org
SUMMARY:Planning Study Interviews (RR)
DESCRIPTION:Planning Study Interviews will be held in the Reception Room today.
URL:https://holyspiritorleans.org/event/planning-study-interviews-rr/2025-03-28/
ORGANIZER;CN="Church of the Holy Spirit":MAILTO:holyspiritorleansadmin@verizon.net
END:VEVENT
END:VCALENDAR