BEGIN:VCALENDAR
VERSION:2.0
PRODID:-//The Church of the Holy Spirit - ECPv6.15.17.1//NONSGML v1.0//EN
CALSCALE:GREGORIAN
METHOD:PUBLISH
X-WR-CALNAME:The Church of the Holy Spirit
X-ORIGINAL-URL:https://holyspiritorleans.org
X-WR-CALDESC:Events for The Church of the Holy Spirit
REFRESH-INTERVAL;VALUE=DURATION:PT1H
X-Robots-Tag:noindex
X-PUBLISHED-TTL:PT1H
BEGIN:VTIMEZONE
TZID:America/New_York
BEGIN:DAYLIGHT
TZOFFSETFROM:-0500
TZOFFSETTO:-0400
TZNAME:EDT
DTSTART:20230312T070000
END:DAYLIGHT
BEGIN:STANDARD
TZOFFSETFROM:-0400
TZOFFSETTO:-0500
TZNAME:EST
DTSTART:20231105T060000
END:STANDARD
BEGIN:DAYLIGHT
TZOFFSETFROM:-0500
TZOFFSETTO:-0400
TZNAME:EDT
DTSTART:20240310T070000
END:DAYLIGHT
BEGIN:STANDARD
TZOFFSETFROM:-0400
TZOFFSETTO:-0500
TZNAME:EST
DTSTART:20241103T060000
END:STANDARD
BEGIN:DAYLIGHT
TZOFFSETFROM:-0500
TZOFFSETTO:-0400
TZNAME:EDT
DTSTART:20250309T070000
END:DAYLIGHT
BEGIN:STANDARD
TZOFFSETFROM:-0400
TZOFFSETTO:-0500
TZNAME:EST
DTSTART:20251102T060000
END:STANDARD
END:VTIMEZONE
BEGIN:VEVENT
DTSTART;TZID=America/New_York:20241217T143000
DTEND;TZID=America/New_York:20241217T160000
DTSTAMP:20260420T091941
CREATED:20241216T170605Z
LAST-MODIFIED:20241216T170605Z
UID:10030548-1734445800-1734451200@holyspiritorleans.org
SUMMARY:Finance Committee (FR)
DESCRIPTION:The Finance Committee will meet in the Fireplace Room starting at 2:30 p.m. today.
URL:https://holyspiritorleans.org/event/finance-committee-fr-2/
LOCATION:Fireplace Room\, 204 Monument Road\, Orleans\, MA\, 02653\, United States
GEO:41.7656197;-69.9845821
X-APPLE-STRUCTURED-LOCATION;VALUE=URI;X-ADDRESS=Fireplace Room 204 Monument Road Orleans MA 02653 United States;X-APPLE-RADIUS=500;X-TITLE=204 Monument Road:geo:-69.9845821,41.7656197
END:VEVENT
END:VCALENDAR