BEGIN:VCALENDAR
VERSION:2.0
PRODID:-//The Church of the Holy Spirit - ECPv6.15.17.1//NONSGML v1.0//EN
CALSCALE:GREGORIAN
METHOD:PUBLISH
X-ORIGINAL-URL:https://holyspiritorleans.org
X-WR-CALDESC:Events for The Church of the Holy Spirit
REFRESH-INTERVAL;VALUE=DURATION:PT1H
X-Robots-Tag:noindex
X-PUBLISHED-TTL:PT1H
BEGIN:VTIMEZONE
TZID:America/New_York
BEGIN:DAYLIGHT
TZOFFSETFROM:-0500
TZOFFSETTO:-0400
TZNAME:EDT
DTSTART:20230312T070000
END:DAYLIGHT
BEGIN:STANDARD
TZOFFSETFROM:-0400
TZOFFSETTO:-0500
TZNAME:EST
DTSTART:20231105T060000
END:STANDARD
BEGIN:DAYLIGHT
TZOFFSETFROM:-0500
TZOFFSETTO:-0400
TZNAME:EDT
DTSTART:20240310T070000
END:DAYLIGHT
BEGIN:STANDARD
TZOFFSETFROM:-0400
TZOFFSETTO:-0500
TZNAME:EST
DTSTART:20241103T060000
END:STANDARD
BEGIN:DAYLIGHT
TZOFFSETFROM:-0500
TZOFFSETTO:-0400
TZNAME:EDT
DTSTART:20250309T070000
END:DAYLIGHT
BEGIN:STANDARD
TZOFFSETFROM:-0400
TZOFFSETTO:-0500
TZNAME:EST
DTSTART:20251102T060000
END:STANDARD
END:VTIMEZONE
BEGIN:VEVENT
DTSTART;TZID=America/New_York:20241013T084500
DTEND;TZID=America/New_York:20241013T094500
DTSTAMP:20260420T054744
CREATED:20231127T155505Z
LAST-MODIFIED:20231127T155505Z
UID:10028605-1728809100-1728812700@holyspiritorleans.org
SUMMARY:Glimpse of the Gospel (FR)
DESCRIPTION:Glimpse of the Gospel will take place in the Fireplace Room starting at 8:45 a.m. today.
URL:https://holyspiritorleans.org/event/glimpse-of-the-gospel-fr/2024-10-13/
LOCATION:Fireplace Room\, 204 Monument Road\, Orleans\, MA\, 02653\, United States
GEO:41.7656197;-69.9845821
X-APPLE-STRUCTURED-LOCATION;VALUE=URI;X-ADDRESS=Fireplace Room 204 Monument Road Orleans MA 02653 United States;X-APPLE-RADIUS=500;X-TITLE=204 Monument Road:geo:-69.9845821,41.7656197
END:VEVENT
BEGIN:VEVENT
DTSTART;TZID=America/New_York:20241013T094500
DTEND;TZID=America/New_York:20241013T111500
DTSTAMP:20260420T054744
CREATED:20240718T170258Z
LAST-MODIFIED:20241216T190830Z
UID:10029319-1728812700-1728818100@holyspiritorleans.org
SUMMARY:Church School/Nursery Care (PHLL)
DESCRIPTION:Church School and Nursery Care will take place in the Parish Hall\, Lower Level starting at 9:45 a.m. today.
URL:https://holyspiritorleans.org/event/church-school-nursery-care-phll/2024-10-13/
LOCATION:Lower Level Parish Hall
END:VEVENT
BEGIN:VEVENT
DTSTART;TZID=America/New_York:20241013T100000
DTEND;TZID=America/New_York:20241013T111500
DTSTAMP:20260420T054744
CREATED:20231023T181613Z
LAST-MODIFIED:20240108T154550Z
UID:10028135-1728813600-1728818100@holyspiritorleans.org
SUMMARY:Holy Eucharist (Ch/LS)
DESCRIPTION:A Holy Eucharist service will be held in the Church\, available also by Live Stream\, starting at 10:00 a.m. today.
URL:https://holyspiritorleans.org/event/holy-eucharist-ch-2/2024-10-13/
LOCATION:Church\, Select a Country:
END:VEVENT
END:VCALENDAR