BEGIN:VCALENDAR
VERSION:2.0
PRODID:-//The Church of the Holy Spirit - ECPv6.15.17.1//NONSGML v1.0//EN
CALSCALE:GREGORIAN
METHOD:PUBLISH
X-ORIGINAL-URL:https://holyspiritorleans.org
X-WR-CALDESC:Events for The Church of the Holy Spirit
REFRESH-INTERVAL;VALUE=DURATION:PT1H
X-Robots-Tag:noindex
X-PUBLISHED-TTL:PT1H
BEGIN:VTIMEZONE
TZID:America/New_York
BEGIN:DAYLIGHT
TZOFFSETFROM:-0500
TZOFFSETTO:-0400
TZNAME:EDT
DTSTART:20230312T070000
END:DAYLIGHT
BEGIN:STANDARD
TZOFFSETFROM:-0400
TZOFFSETTO:-0500
TZNAME:EST
DTSTART:20231105T060000
END:STANDARD
BEGIN:DAYLIGHT
TZOFFSETFROM:-0500
TZOFFSETTO:-0400
TZNAME:EDT
DTSTART:20240310T070000
END:DAYLIGHT
BEGIN:STANDARD
TZOFFSETFROM:-0400
TZOFFSETTO:-0500
TZNAME:EST
DTSTART:20241103T060000
END:STANDARD
BEGIN:DAYLIGHT
TZOFFSETFROM:-0500
TZOFFSETTO:-0400
TZNAME:EDT
DTSTART:20250309T070000
END:DAYLIGHT
BEGIN:STANDARD
TZOFFSETFROM:-0400
TZOFFSETTO:-0500
TZNAME:EST
DTSTART:20251102T060000
END:STANDARD
END:VTIMEZONE
BEGIN:VEVENT
DTSTART;TZID=America/New_York:20240724T063000
DTEND;TZID=America/New_York:20240724T150000
DTSTAMP:20260419T100047
CREATED:20240311T162747Z
LAST-MODIFIED:20240603T160835Z
UID:10029039-1721802600-1721833200@holyspiritorleans.org
SUMMARY:F4K Program (PK/LL)
DESCRIPTION:The Food for Kids Program will be using the Parish Kitchen and Lower Level of the Parish Hall today starting at 6:30 a.m.
URL:https://holyspiritorleans.org/event/f4k-program/2024-07-24/
LOCATION:Parish Kitchen/Lower Level PH\, 204 Monument Road\, Orleans\, 02653\, United States
GEO:41.7656197;-69.9845821
X-APPLE-STRUCTURED-LOCATION;VALUE=URI;X-ADDRESS=Parish Kitchen/Lower Level PH 204 Monument Road Orleans 02653 United States;X-APPLE-RADIUS=500;X-TITLE=204 Monument Road:geo:-69.9845821,41.7656197
END:VEVENT
BEGIN:VEVENT
DTSTART;TZID=America/New_York:20240724T093000
DTEND;TZID=America/New_York:20240724T110000
DTSTAMP:20260419T100047
CREATED:20240603T182902Z
LAST-MODIFIED:20240603T182902Z
UID:10029215-1721813400-1721818800@holyspiritorleans.org
SUMMARY:Officers Meeting (FR)
DESCRIPTION:There will be an Officers Meeting starting at 9:30 a.m. today in the Fireplace Room.
URL:https://holyspiritorleans.org/event/officers-meeting-fr-2/2024-07-24/
LOCATION:Fireplace Room\, 204 Monument Road\, Orleans\, MA\, 02653\, United States
GEO:41.7656197;-69.9845821
X-APPLE-STRUCTURED-LOCATION;VALUE=URI;X-ADDRESS=Fireplace Room 204 Monument Road Orleans MA 02653 United States;X-APPLE-RADIUS=500;X-TITLE=204 Monument Road:geo:-69.9845821,41.7656197
END:VEVENT
BEGIN:VEVENT
DTSTART;TZID=America/New_York:20240724T100000
DTEND;TZID=America/New_York:20240724T130000
DTSTAMP:20260419T100047
CREATED:20240610T174309Z
LAST-MODIFIED:20240610T174309Z
UID:10029251-1721815200-1721826000@holyspiritorleans.org
SUMMARY:Free Shop (PH)
DESCRIPTION:Free Shop will be open in the Parish Hall starting at 10:00 a.m. today.
URL:https://holyspiritorleans.org/event/free-shop-ph-2/2024-07-24/
LOCATION:Parish Hall\, 204 Monument Road\, Orleans\, MA\, 02653\, United States
GEO:41.7656197;-69.9845821
X-APPLE-STRUCTURED-LOCATION;VALUE=URI;X-ADDRESS=Parish Hall 204 Monument Road Orleans MA 02653 United States;X-APPLE-RADIUS=500;X-TITLE=204 Monument Road:geo:-69.9845821,41.7656197
END:VEVENT
BEGIN:VEVENT
DTSTART;TZID=America/New_York:20240724T173000
DTEND;TZID=America/New_York:20240724T200000
DTSTAMP:20260419T100047
CREATED:20240610T173343Z
LAST-MODIFIED:20240610T173343Z
UID:10029245-1721842200-1721851200@holyspiritorleans.org
SUMMARY:Children's Movie Night (PH)
DESCRIPTION:Children’s Movie Night will be held in the Parish Hall starting at 5:30 p.m. tonight.
URL:https://holyspiritorleans.org/event/childrens-movie-night-ph/2024-07-24/
LOCATION:Parish Hall\, 204 Monument Road\, Orleans\, MA\, 02653\, United States
GEO:41.7656197;-69.9845821
X-APPLE-STRUCTURED-LOCATION;VALUE=URI;X-ADDRESS=Parish Hall 204 Monument Road Orleans MA 02653 United States;X-APPLE-RADIUS=500;X-TITLE=204 Monument Road:geo:-69.9845821,41.7656197
END:VEVENT
END:VCALENDAR